BEGIN:VCALENDAR
VERSION:2.0
PRODID:-//HELSE - ECPv6.15.20//NONSGML v1.0//EN
CALSCALE:GREGORIAN
METHOD:PUBLISH
X-WR-CALNAME:HELSE
X-ORIGINAL-URL:https://www.helse.ch
X-WR-CALDESC:Events for HELSE
REFRESH-INTERVAL;VALUE=DURATION:PT1H
X-Robots-Tag:noindex
X-PUBLISHED-TTL:PT1H
BEGIN:VTIMEZONE
TZID:Europe/Zurich
BEGIN:DAYLIGHT
TZOFFSETFROM:+0100
TZOFFSETTO:+0200
TZNAME:CEST
DTSTART:20250330T010000
END:DAYLIGHT
BEGIN:STANDARD
TZOFFSETFROM:+0200
TZOFFSETTO:+0100
TZNAME:CET
DTSTART:20251026T010000
END:STANDARD
BEGIN:DAYLIGHT
TZOFFSETFROM:+0100
TZOFFSETTO:+0200
TZNAME:CEST
DTSTART:20260329T010000
END:DAYLIGHT
BEGIN:STANDARD
TZOFFSETFROM:+0200
TZOFFSETTO:+0100
TZNAME:CET
DTSTART:20261025T010000
END:STANDARD
BEGIN:DAYLIGHT
TZOFFSETFROM:+0100
TZOFFSETTO:+0200
TZNAME:CEST
DTSTART:20270328T010000
END:DAYLIGHT
BEGIN:STANDARD
TZOFFSETFROM:+0200
TZOFFSETTO:+0100
TZNAME:CET
DTSTART:20271031T010000
END:STANDARD
END:VTIMEZONE
BEGIN:VEVENT
DTSTART;TZID=Europe/Zurich:20260228T180000
DTEND;TZID=Europe/Zurich:20260228T194500
DTSTAMP:20260424T152832
CREATED:20260119T094124Z
LAST-MODIFIED:20260210T171517Z
UID:14106-1772301600-1772307900@www.helse.ch
SUMMARY:Bogojavljenje
DESCRIPTION:SRB \n\nO PREDSTAVI \nBOGOJAVLJENJE\nKad bi se Bog pojavio u Crnoj Gori…\n  \n28. februar u 18.00 časova\nKRONENSAAL\,\nWehntalerstrasse 551\,\n8046 Zürich\n——————————- \nCENA KARTE: \nMESTA C – 35chf \nMESTA B – 40chf\n(studenti i penzioneri – 30chf)\n \nMESTA A – 48chf\n(HELSE KLUB članovi – 40chf)\n \nkarte za predstavu„Bogojavljenje“ je satirična bajka nastala po motivima poezije i eseja Matije Bećkovića („Bogojavljenje“\, „Nož“\, „Ovo i ono“ i „O budalama“)\, dopunjena originalnim dramskim scenama i dijalozima. Predstava polazi od hipotetičke situacije – šta bi se dogodilo kada bi se Bog pojavio u Crnoj Gori – i na duhovit\, ali i potresan način\, otvara pitanja izvora i posledica međubratske mržnje. U slojevitom spoju satire\, poezije i dramskog dijaloga\, delo pokazuje kako lako budale mogu rat proglasiti najboljim ili jedinim rešenjem\, dok zapravo put ka izlazu vodi samo kroz lično preobraženje. Ova scenska bajka podjednako pripada i Bećkovićevom stvaralaštvu i autorovoj samostalnoj viziji\, donoseći pozorištu delo koje istovremeno opominje i oslobađa humorom. \nBroj mesta ograničen. Kao i broj živaca koje danas imamo. \nIgraju: Nebojša Milovanović\, Svetozar Cvetković\, Milovan Filipović\nPo motivima poezije Matije Bećkovića\nTekst i režija: Ana Đorđević\n \nBogojavljanje – O predstavi : Ana Djordjević\nKada pozorište traži vreme\, \n Postoje predstave koje nas osvoje odmah — i postoje one kojima treba dati prostor\, zato što ne žure.  \nPredstava „Bogojavljenje“\, zasnovana na poeziji Matija Bećković\, pripada ovoj drugoj vrsti. To je pozorište koje se gradi kroz reč\, ritam govora i glumačku prisutnost\, i koje ostaje da traje i nakon izlaska iz sale. U brzom vremenu ovakve večeri podsećaju nas da je pozorište prostor slušanja. Ne objašnjavanja\, ne poentiranja — već susreta sa tekstom koji ima težinu i sa glumcem koji mu daje vreme.  \nNa sceni “Bogojavljanje” donose  Nebojša Milovanović\, Svetozar Cvetković i Milovan Filipović umetnici koji znaju kako se stoji uz reč\, kako se ćuti između dve rečenice i kako se publici ostavlja prostor da sama dođe do značenja. Tekstovi Matije Bećkovića su pisani da bi se govorili\, slušali i nosili. Njihova snaga često nije u poruci\, već u tonu\, ironiji\, preokretu\, i u onome što se prepozna tek kasnije.  \nHELSE već godinama gradi prostor za različite oblike kulture: i za smeh\, i za radost\, i za lakoću — ali i za ovakve večeri koje nas podsete zašto je pozorište više od zabave. Ne kao suprotnost\, već kao dopuna. Ako volite pozorište koje se polako otvara — dobrodošli.
URL:https://www.helse.ch/event/bogojavljenje/
LOCATION:Hotel Kronenhof\, Wehntalerstrasse 551\, Zürich\, 8046\, Switzerland
ATTACH;FMTTYPE=image/webp:https://www.helse.ch/wp-content/uploads/2026/01/bogoj.webp
ORGANIZER;CN="Helse Kulturverein":MAILTO:info@helse.ch
END:VEVENT
END:VCALENDAR