BEGIN:VCALENDAR
VERSION:2.0
PRODID:-//HELSE - ECPv6.15.20//NONSGML v1.0//EN
CALSCALE:GREGORIAN
METHOD:PUBLISH
X-ORIGINAL-URL:https://www.helse.ch
X-WR-CALDESC:Events for HELSE
REFRESH-INTERVAL;VALUE=DURATION:PT1H
X-Robots-Tag:noindex
X-PUBLISHED-TTL:PT1H
BEGIN:VTIMEZONE
TZID:Europe/Zurich
BEGIN:DAYLIGHT
TZOFFSETFROM:+0100
TZOFFSETTO:+0200
TZNAME:CEST
DTSTART:20230326T010000
END:DAYLIGHT
BEGIN:STANDARD
TZOFFSETFROM:+0200
TZOFFSETTO:+0100
TZNAME:CET
DTSTART:20231029T010000
END:STANDARD
BEGIN:DAYLIGHT
TZOFFSETFROM:+0100
TZOFFSETTO:+0200
TZNAME:CEST
DTSTART:20240331T010000
END:DAYLIGHT
BEGIN:STANDARD
TZOFFSETFROM:+0200
TZOFFSETTO:+0100
TZNAME:CET
DTSTART:20241027T010000
END:STANDARD
BEGIN:DAYLIGHT
TZOFFSETFROM:+0100
TZOFFSETTO:+0200
TZNAME:CEST
DTSTART:20250330T010000
END:DAYLIGHT
BEGIN:STANDARD
TZOFFSETFROM:+0200
TZOFFSETTO:+0100
TZNAME:CET
DTSTART:20251026T010000
END:STANDARD
END:VTIMEZONE
BEGIN:VEVENT
DTSTART;VALUE=DATE:20241019
DTEND;VALUE=DATE:20241021
DTSTAMP:20260425T183034
CREATED:20240916T173802Z
LAST-MODIFIED:20241225T090112Z
UID:12887-1729296000-1729468799@www.helse.ch
SUMMARY:Decije povrede
DESCRIPTION:SRB \n\nO PREDSTAVI \nDEČIJE POVREDE\nPredstava “Dečije povrede” je zanimljiva\, neklasična ljubavna priča. Prati život dve odrasle osobe\, pa i njihove ljubavne probleme od školske klupe do danas.\n19 i 20. OKTOBAR 2024\nKirchgemeindehaus Neumünster Zürich\,\nSeefeldstrasse 91\,\n8008 ZURICH\n——————————- \nCENA KARTE: \n(studenti i penzioneri – 35chf) \nBALKON – 45chf \nPARTER – 50chf \nKARTE – 19. oktobar u 20hKARTE – 20. oktobar u 19hDelo “Dečije povrede” je crna i romantična komedija\, melodrama\, koju je američki dramski pisac Džozef Radživ napisao 2011. godine. \nReč je o duo drami koja prikazuje toplu\, ljudsku priču između dvoje naizgled sličnih individua\, podjednako nesrećnih i usamljenih\, koji se sreću tokom razdoblja od tri decenije. Drama se odvija nehronološki\, vremenski skače u prošlost\, onda ide iznenada u budućnost\, da bi se vratila u sadašnjost\, što doprinosi dinamici i atraktivnosti radnje. \nKomad opisuje platonski emotivni odnos junaka koji se od njihove 8. do 38. godine susreću najviše u ambulanti\, vidaju svoje rane\, odnosno kako naziv kaže – dečije povrede\, koje su i psihološke\, fizičke\, na svaki način bolne\, kroz patnju i neprijatnosti\, a dirljivo je kako kroz razvojni put njihove veze tokom 30 godina\, iako su sa nekim drugim osobama u ljubavi\, zapravo nikada ne odustaju jedno od drugog. \nIGRAJU: Sloboda Mićalović i Vuk Kostić\nREŽIJA: Ivan Vuković
URL:https://www.helse.ch/event/decije-povrede/
LOCATION:Kirchgemeindehaus  Neumünster\, Seefeldstrasse 91\, Zürich\, Zürich\, 8008\, Switzerland
ATTACH;FMTTYPE=image/webp:https://www.helse.ch/wp-content/uploads/2024/09/decije-povrede.webp
ORGANIZER;CN="Helse Kulturverein":MAILTO:info@helse.ch
END:VEVENT
END:VCALENDAR