BEGIN:VCALENDAR
VERSION:2.0
PRODID:-//HELSE - ECPv6.15.20//NONSGML v1.0//EN
CALSCALE:GREGORIAN
METHOD:PUBLISH
X-ORIGINAL-URL:https://www.helse.ch
X-WR-CALDESC:Events for HELSE
REFRESH-INTERVAL;VALUE=DURATION:PT1H
X-Robots-Tag:noindex
X-PUBLISHED-TTL:PT1H
BEGIN:VTIMEZONE
TZID:Europe/Zurich
BEGIN:DAYLIGHT
TZOFFSETFROM:+0100
TZOFFSETTO:+0200
TZNAME:CEST
DTSTART:20230326T010000
END:DAYLIGHT
BEGIN:STANDARD
TZOFFSETFROM:+0200
TZOFFSETTO:+0100
TZNAME:CET
DTSTART:20231029T010000
END:STANDARD
BEGIN:DAYLIGHT
TZOFFSETFROM:+0100
TZOFFSETTO:+0200
TZNAME:CEST
DTSTART:20240331T010000
END:DAYLIGHT
BEGIN:STANDARD
TZOFFSETFROM:+0200
TZOFFSETTO:+0100
TZNAME:CET
DTSTART:20241027T010000
END:STANDARD
BEGIN:DAYLIGHT
TZOFFSETFROM:+0100
TZOFFSETTO:+0200
TZNAME:CEST
DTSTART:20250330T010000
END:DAYLIGHT
BEGIN:STANDARD
TZOFFSETFROM:+0200
TZOFFSETTO:+0100
TZNAME:CET
DTSTART:20251026T010000
END:STANDARD
END:VTIMEZONE
BEGIN:VEVENT
DTSTART;TZID=Europe/Zurich:20240308T200000
DTEND;TZID=Europe/Zurich:20240308T220000
DTSTAMP:20260426T061840
CREATED:20240212T092357Z
LAST-MODIFIED:20240212T092749Z
UID:12694-1709928000-1709935200@www.helse.ch
SUMMARY:DEJT - Sandra Silađev
DESCRIPTION:SRB \n\nO PREDSTAVI \nDEJT\nZbog velikog interesovanja\, Sandra Siladjev se vraća u Cirih sa svojom monodramom “DEJT”! \nSandra tumači ulogu Olivere Živković\, sredovečne gospođe i samohrane majke\, koja se našla na zakazanom ljubavnom sastanku\, ali njen “DEJT” se ne pojavljuje. Olivera čeka\, ali šta i koga? Otkrijte kroz njen lik šta znači biti žena u današnjem društvu\, kako se nosi sa ulogom majke i kakvi su izazovi sa kojima se suočava. \nPridružite se Oliveri u njenim razmišljanjima o braku\, ljubavi\, majčinstvu\, i otkrijte da li je moguće pronaći srodnu dušu u ovom komplikovanom svetu. Ova monodrama vas vodi na putovanje kroz humor\, suze\, i realnost današnjice\, postavljajući važna pitanja o položaju žene\, moralu i odnosima.\n \n  \n08. MART 2024\, 20h\n\nKirchgemeindehaus Neumünster Zürich\,\nSeefeldstrasse 91\,\n8008 ZURICH\n——————————- \nCENA KARTE: \n\nSedišta C – 40chf\n(studenti i penzioneri C – 35chf)\nSedišta – balkon B – 45chf\nSedišta A – 50chf\n\n\n\nKARTE\n\n  \nNapomena: Predstava nije namenjena maloletnim osobama i koristi vulgarnost i prostačku retoriku kao sredstvo za prikazivanje dvostrukih standarda\, posebno nametnutih ženama. \nObavezno ponesite sa sobom: dobro raspoloženje. Ne propustite ovu jedinstvenu predstavu! \n 
URL:https://www.helse.ch/event/dejt-sandra-siladev/
LOCATION:Kirchgemeindehaus  Neumünster\, Seefeldstrasse 91\, Zürich\, Zürich\, 8008\, Switzerland
ATTACH;FMTTYPE=image/webp:https://www.helse.ch/wp-content/uploads/2024/02/dejt2024.webp
ORGANIZER;CN="Helse Kulturverein":MAILTO:info@helse.ch
END:VEVENT
END:VCALENDAR