BEGIN:VCALENDAR
VERSION:2.0
PRODID:-//HELSE - ECPv6.15.20//NONSGML v1.0//EN
CALSCALE:GREGORIAN
METHOD:PUBLISH
X-ORIGINAL-URL:https://www.helse.ch
X-WR-CALDESC:Events for HELSE
REFRESH-INTERVAL;VALUE=DURATION:PT1H
X-Robots-Tag:noindex
X-PUBLISHED-TTL:PT1H
BEGIN:VTIMEZONE
TZID:UTC
BEGIN:STANDARD
TZOFFSETFROM:+0000
TZOFFSETTO:+0000
TZNAME:UTC
DTSTART:20230101T000000
END:STANDARD
END:VTIMEZONE
BEGIN:VEVENT
DTSTART;VALUE=DATE:20240126
DTEND;VALUE=DATE:20240128
DTSTAMP:20260426T045525
CREATED:20231204T085027Z
LAST-MODIFIED:20240112T141853Z
UID:12196-1706227200-1706399999@www.helse.ch
SUMMARY:Bilo jednom na Brijunima
DESCRIPTION:SRB \n\nO PREDSTAVI \nBILO JEDNOM NA BRIJUNIMA\nFantastična predstava nastala u koprodukciji Bitef teatra\, Kreativne produkcije Joca Art i Centra za kulturu Svilajnac.\n  \n26. i 27. JANUAR 2024\n\nKirchgemeindehaus Neumünster Zürich\,\nSeefeldstrasse 91\,\n8008 ZURICH\n——————————- \nCENA KARTE: \n\nSedišta C – 40chf\n(studenti i penzioneri C – 35chf)\nSedišta B – 45chf\nSedišta A – 50chf\n\n\n\nKARTE – 27. januar u 20h\nKARTE – 26. januar u 20h\n\n\nPredstava polazi od stvarnog istorijskog susreta dva bračna para: Tita i Jovanke Broz sa Ričardom Bartonom i Elizabet Tejlor. Ovaj susret dogodio se na ostrvu Brijuni sedamdesetih godina prošlog veka. Podaci o samom susretu i zajedničkom vremenu koje su bračni parovi proveli zajedno\, dostupni su kroz vrlo šture pisane i video tragove jugoslovenskih medija\, biografske spise o životima četiri istorijske ličnosti\, te u vidu kratkih crtica iz dnevnika Ričarda Bartona. Svi ovi materijali poslužiće kao inspiracija i građa za buduću predstavu. \nSnimanje filma Sutjeska bilo je osnovni povod ovog susreta i to je ono što o samom susretu istorijski pouzdano znamo. Sve ostalo plod je naše mašte. \nUpravo\, domaštavanje i istraživanje mogućih događaja i odnosa između ove četiri istaknute ličnosti prilikom jednog istorijskog susreta tema je predstave. \nKoje su to sve uloge koje igraju ovo četvoro ljudi? Šta znači igrati više uloga u odnosu sa različitim ljudima? Šta su to sve naši pojedinačni i kolektivni identiteti\, lični interesi i društvene zasluge? \n  \nIGRAJU:\nMILAN MARIĆ ……………………………….Richard Barton\nBRANISLAV TRIFUNOVIĆ………………….Josip Broz\nTIHANA LAZOVIĆ……………………………Elizabeth Taylor\nSANJA MARKOVIĆ…………………………..Jovanka Broz \n  \n\n\n 
URL:https://www.helse.ch/event/bilo-jednom-na-brijunima/
LOCATION:Kirchgemeindehaus  Neumünster\, Seefeldstrasse 91\, Zürich\, Zürich\, 8008\, Switzerland
CATEGORIES:Pozoriste
ATTACH;FMTTYPE=image/webp:https://www.helse.ch/wp-content/uploads/2023/12/BILO-JEDNOM-NA-BRIJUNIMA.webp
ORGANIZER;CN="Helse Kulturverein":MAILTO:info@helse.ch
END:VEVENT
END:VCALENDAR