BEGIN:VCALENDAR
VERSION:2.0
PRODID:-//HELSE - ECPv6.15.20//NONSGML v1.0//EN
CALSCALE:GREGORIAN
METHOD:PUBLISH
X-ORIGINAL-URL:https://www.helse.ch
X-WR-CALDESC:Events for HELSE
REFRESH-INTERVAL;VALUE=DURATION:PT1H
X-Robots-Tag:noindex
X-PUBLISHED-TTL:PT1H
BEGIN:VTIMEZONE
TZID:Europe/Zurich
BEGIN:DAYLIGHT
TZOFFSETFROM:+0100
TZOFFSETTO:+0200
TZNAME:CEST
DTSTART:20250330T010000
END:DAYLIGHT
BEGIN:STANDARD
TZOFFSETFROM:+0200
TZOFFSETTO:+0100
TZNAME:CET
DTSTART:20251026T010000
END:STANDARD
BEGIN:DAYLIGHT
TZOFFSETFROM:+0100
TZOFFSETTO:+0200
TZNAME:CEST
DTSTART:20260329T010000
END:DAYLIGHT
BEGIN:STANDARD
TZOFFSETFROM:+0200
TZOFFSETTO:+0100
TZNAME:CET
DTSTART:20261025T010000
END:STANDARD
BEGIN:DAYLIGHT
TZOFFSETFROM:+0100
TZOFFSETTO:+0200
TZNAME:CEST
DTSTART:20270328T010000
END:DAYLIGHT
BEGIN:STANDARD
TZOFFSETFROM:+0200
TZOFFSETTO:+0100
TZNAME:CET
DTSTART:20271031T010000
END:STANDARD
END:VTIMEZONE
BEGIN:VEVENT
DTSTART;TZID=Europe/Zurich:20260327T200000
DTEND;TZID=Europe/Zurich:20260327T220000
DTSTAMP:20260425T180611
CREATED:20260212T173007Z
LAST-MODIFIED:20260213T110610Z
UID:14372-1774641600-1774648800@www.helse.ch
SUMMARY:Knjiga o Milutinu Minhen
DESCRIPTION:SRB \n\nO PREDSTAVI \nKNJIGA O MILUTINU\nPetak\, 27. mart – 20h\n\n\nWERK7 Theater – München\nWerksviertel-Mitte\nAtelierstraße 1\n81671 Minhen\, Nemacka\nCENE KARATA ZA MINHEN1. kategorija: 45 eur2. kategorija: 38 eur3. kategorija: 30 eurODABERI KARTUGostovanje Zvezdara Teatra u Minhenu\nUz podrsku Boommedia. \n„Jaoj\, da li ce ovo unuci i praunuci nasi smeti da zaborave\, da l’ ce ovo biti opisano?“ \nOva recenica stoji u srcu jednog od najpotresnijih dela savremene srpske knjizevnosti – „Knjige o Milutinu“ pisca Danka Popovica. \nMilutin Ostojić\, obican covek\, seljak i domacin\, kroz licnu ispovest govori o stradanju\, ratu\, zabludama velikih ideja i ceni koju placa mali covek. Njegova prica nije istorijska lekcija – to je moralni sud\, izgovoren jednostavno\, iskreno i bez patetike. \nRec pisca – Danko Popovic \nSlobodan Danko Popovic (1928–2009) jedan je od najznacajnijih srpskih pisaca koji je kroz romane\, drame i eseje govorio o novijoj srpskoj istoriji i sudbini „malog coveka“. Autor je romana Gospodari\, Oficiri\, Kuća Lukića\, eseja Vreme laži\, kao i drame Karađorđeva smrt.\n„Knjiga o Milutinu“ ostaje njegovo najpotresnije i najcitiranije delo. \nRec glumca – Nenad Jezdic \nMilutin je neznani junak. Paradigma istinskog patriotizma\, casti i ljudskosti.\nOvo je prica o ljudima iz nasih porodicnih albuma\, o precima koje smo gurnuli u fioke pamcenja.\nMilutin postavlja pitanja veca od ideologija:\ngde su nestali spremnost na zrtvu\, postenje\, skromnost\, humanost? \nI sto godina kasnije\, ta pitanja bole isto. \nMonodrama „Knjiga o Milutinu – deo prvi“ nije samo pozorisna predstava.\nTo je antiratni vapaj\, opomena i poziv na secanje. \nZa više o samom delu možete pročitati OVDE. \nGlumac: Nenad Jezdic\nRezija: Egon Savin\nTrajanje: 120 minuta \nPredstava se izvodi bez pauze. Molimo da dođete na vreme\, jer ulazak nakon početka nije moguć. Fotografisanje i snimanje tokom predstave nije dozvoljeno.
URL:https://www.helse.ch/event/knjiga-o-milutinu-minhen/
LOCATION:WERK7 Theater – München\, Atelierstraße 1\, München\, 81671\, Germany
ATTACH;FMTTYPE=image/webp:https://www.helse.ch/wp-content/uploads/2026/02/milutin-minhen.webp
ORGANIZER;CN="Helse Kulturverein":MAILTO:info@helse.ch
END:VEVENT
BEGIN:VEVENT
DTSTART;TZID=Europe/Zurich:20260327T203000
DTEND;TZID=Europe/Zurich:20260327T220000
DTSTAMP:20260425T180611
CREATED:20251216T150727Z
LAST-MODIFIED:20251222T202312Z
UID:14015-1774643400-1774648800@www.helse.ch
SUMMARY:Seansa
DESCRIPTION:SRB \n\nO PREDSTAVI \nSANDRA SILAĐEV\nSEANSA\nPREMIJERNO nova autorska drama Sandre Siladjev\n27. MART 2026.\nVolkshaus Zürich\nStauffacherstrasse 60\n8004 Zürich\nCENA KARATA PO KATEGORIJAMA\nPARTER / BALKON kategorija 1 – 50 chf\nPARTER / BALKON kategorija 2 – 45 chf\n(studenti i penzioneri – 30 chf)\n\nKARTE\nSandra Siladjev u monodrami SEANSA\nPovodom obelezavanja 10 godina u javnosti i 20 godina od prve uloge\, Sandra Siladjev predstavlja novu autorsku monodramu „Seansa“ – crnu komediju koja se bavi pitanjima mentalnog zdravlja\, poverenja\, etike i apsurda zdravstvenih sistema kod nas i u svetu. \nU predstavi pratimo lik Jasne\, žene u petoj deceniji života na psihoterapijskoj seansi. Jasna nas vodi kroz grotesku savremenog života gde se bol meri aplauzom\, a poniženje lajkovima. Otvaraju se pitanja: da li je javna scena postala kolektivna terapija? Da li je lična bol nova društvena moć? \n„Seansa“ je autorska crna komedija koja prevazilazi okvir priče o pojedincu i postavlja univerzalna pitanja zdravstvenog sistema i društva. \nPublika je pozvana da dodje spremna — sa strpljenjem i dobrim raspoloženjem. \nSnimanje i fotografisanje tokom monodrame je strogo zabranjeno. \nDeca maldja od 18. godina ne mogu prisustovati predstavi. 
URL:https://www.helse.ch/event/seansa/
LOCATION:Volkshaus Zürich\, Stauffacherstrasse 60\, Zürich\, 8004\, Switzerland
ATTACH;FMTTYPE=image/webp:https://www.helse.ch/wp-content/uploads/2025/12/seansa.webp
ORGANIZER;CN="Helse Kulturverein":MAILTO:info@helse.ch
END:VEVENT
BEGIN:VEVENT
DTSTART;TZID=Europe/Zurich:20260329T170000
DTEND;TZID=Europe/Zurich:20260329T190000
DTSTAMP:20260425T180611
CREATED:20260209T165317Z
LAST-MODIFIED:20260212T173402Z
UID:14297-1774803600-1774810800@www.helse.ch
SUMMARY:Knjiga o Milutinu
DESCRIPTION:SRB \n\nO PREDSTAVI \nKNJIGA O MILUTINU\nNedelja\, 29. mart – 17h\n\n\nKurtheater Baden\nParkstrasse 20\n5400 Baden\nCENE KARATA1. kategorija (parter – blize sceni): 50 CHF2. kategorija (parter – srednji deo): 45 CHF3. kategorija (zadnji deo / balkon): 35 CHF4. Mesta za invalidska kolica: 45 CHFODABERI KARTUGostovanje Zvezdara Teatra u Badenu\nUz podrsku udruzenja You Rock 4 Life. \n„Jaoj\, da li ce ovo unuci i praunuci nasi smeti da zaborave\, da l’ ce ovo biti opisano?“ \nOva recenica stoji u srcu jednog od najpotresnijih dela savremene srpske knjizevnosti – „Knjige o Milutinu“ pisca Danka Popovica. \nMilutin Ostojić\, obican covek\, seljak i domacin\, kroz licnu ispovest govori o stradanju\, ratu\, zabludama velikih ideja i ceni koju placa mali covek. Njegova prica nije istorijska lekcija – to je moralni sud\, izgovoren jednostavno\, iskreno i bez patetike. \nRec pisca – Danko Popovic \nSlobodan Danko Popovic (1928–2009) jedan je od najznacajnijih srpskih pisaca koji je kroz romane\, drame i eseje govorio o novijoj srpskoj istoriji i sudbini „malog coveka“. Autor je romana Gospodari\, Oficiri\, Kuća Lukića\, eseja Vreme laži\, kao i drame Karađorđeva smrt.\n„Knjiga o Milutinu“ ostaje njegovo najpotresnije i najcitiranije delo. \nRec glumca – Nenad Jezdic \nMilutin je neznani junak. Paradigma istinskog patriotizma\, casti i ljudskosti.\nOvo je prica o ljudima iz nasih porodicnih albuma\, o precima koje smo gurnuli u fioke pamcenja.\nMilutin postavlja pitanja veca od ideologija:\ngde su nestali spremnost na zrtvu\, postenje\, skromnost\, humanost? \nI sto godina kasnije\, ta pitanja bole isto. \nMonodrama „Knjiga o Milutinu – deo prvi“ nije samo pozorisna predstava.\nTo je antiratni vapaj\, opomena i poziv na secanje. \nZa više o samom delu možete pročitati OVDE. \nGlumac: Nenad Jezdic\nRezija: Egon Savin\nTrajanje: 120 minuta \nPredstava se izvodi bez pauze. Molimo da dođete na vreme\, jer ulazak nakon početka nije moguć. Fotografisanje i snimanje tokom predstave nije predviđeno\, u skladu sa pravilima sale Kurtheater Baden.
URL:https://www.helse.ch/event/knjiga-o-milutinu/
LOCATION:Kurtheater Baden\, Parkstrasse 20\, Baden\, Aargau\, 5400\, Switzerland
ATTACH;FMTTYPE=image/webp:https://www.helse.ch/wp-content/uploads/2026/02/MILUTIN.webp
ORGANIZER;CN="Helse Kulturverein":MAILTO:info@helse.ch
END:VEVENT
END:VCALENDAR