BEGIN:VCALENDAR
VERSION:2.0
PRODID:-//HELSE - ECPv6.15.20//NONSGML v1.0//EN
CALSCALE:GREGORIAN
METHOD:PUBLISH
X-WR-CALNAME:HELSE
X-ORIGINAL-URL:https://www.helse.ch
X-WR-CALDESC:Events for HELSE
REFRESH-INTERVAL;VALUE=DURATION:PT1H
X-Robots-Tag:noindex
X-PUBLISHED-TTL:PT1H
BEGIN:VTIMEZONE
TZID:UTC
BEGIN:STANDARD
TZOFFSETFROM:+0000
TZOFFSETTO:+0000
TZNAME:UTC
DTSTART:20160101T000000
END:STANDARD
END:VTIMEZONE
BEGIN:VEVENT
DTSTART;VALUE=DATE:20190117
DTEND;VALUE=DATE:20190219
DTSTAMP:20260425T184034
CREATED:20181221T224312Z
LAST-MODIFIED:20190219T112820Z
UID:4825-1547683200-1550534399@www.helse.ch
SUMMARY:Taksi bluz
DESCRIPTION:URNEBESNA KOMEDIJA \nTAKSI BLUZ ŠIROM EVROPE\n  \nNova domaća komedija “Taksi bluz” reditelja Miroslava Stamatova biće premijerno prikazana 17. januara u RiffRaff Kino u Cirihu i u Bourbaki Kino u Luzernu. \nPRATITE OVDE PROJEKCIJE FILMA PO ZEMLJAMA I GRADOVIMA \nOva uzbudljiva\, romantična komedija istovremeno je i šarmantni „road movie“ u kojoj je glavni junak priče Marko (Andrija Milošević)\, simpatični\, propali dramaturg koji godinama radi kao taksista. Njegove avanture pratićemo tokom jedne urnebesne noći\, kada se naizgled normalan radni dan na njegovom poslu pretvara u haos\, jer se u taksi vozilo ušunja mali Damir koji je pobegao iz doma za nezbrinutu decu i koji je u potrazi za ocem. Njihova vožnja će se pretvoriti u gomilu suludih situacija u kojima će učestvovati mnoštvo likova koje će prodefilovati kroz taksi kao mušterije. \nGlavne uloge u uvoj urnebesnoj priči čiji scenario potpisuju Marko Backović i Marko Jocić tumače: \nAndrija Milošević\, Milena Predić\, Todor Jovanović\, Aleksandra Tomić\, Nikola Đuričko\, Sergej Trifunović\, Boris Milivojević\, Boris Komnenić i Nikola Pejaković. \n  \nKUPI KARTU ZA TVOJ BIOSKOP\n \n  \n\n  \n \n \n 
URL:https://www.helse.ch/event/taksi-bluz/
LOCATION:RiffRaff Kino\, Neugasse 57-63\, Zürich\, Zürich\, 8005\, Switzerland
CATEGORIES:Bioskop
ATTACH;FMTTYPE=image/jpeg:https://www.helse.ch/wp-content/uploads/2018/12/TB-event.jpg
ORGANIZER;CN="Helse Kulturverein":MAILTO:info@helse.ch
END:VEVENT
BEGIN:VEVENT
DTSTART;TZID=UTC:20181123T210000
DTEND;TZID=UTC:20181123T210000
DTSTAMP:20260425T184034
CREATED:20181026T142755Z
LAST-MODIFIED:20181026T144056Z
UID:4588-1543006800-1543006800@www.helse.ch
SUMMARY:Državni posao
DESCRIPTION:DRŽAVNI POSAO premijerno u Cirihu 23.11.2018.\n \nPopularni novosadski trio se uskoro vraća premijerom nove predstave pod nazivom “Velika reforma”. Dejan\, Dimitrije i Nikola će osim redovnog TV serijala ponovo zabavljati publiku širom sveta i živim nastupima.\nU predstavi ćemo saznati šta je snašlo naše arhivatore na pragu promena i tranzicije u novo Evropsko društvo\, i kako su oni reagovali na promene. Naravno\, smeh i zabava su zagarantovani za svakog posetioca. Na oduševljenje publike u Švajcarskoj predstava će imati premijeru i u Cirihu 23.11 u 21h.\n\n \nNovu predstavu je\, kao i prethodnu režirao Novosadski reditelj Petar Jovanović\, dok je scenografiju radila Vladislava Munić. Autori teksta su sami glumci\, Nikola Škorić\, Dimitrije Banjac i Dejan Ćirjaković.\n  \n  \n\nKUPI KARTU\n\n 
URL:https://www.helse.ch/event/drzavni-posao/
LOCATION:Kirchgemeindehaus  Neumünster\, Seefeldstrasse 91\, Zürich\, Zürich\, 8008\, Switzerland
CATEGORIES:Pozoriste
ATTACH;FMTTYPE=image/jpeg:https://www.helse.ch/wp-content/uploads/2018/10/event-DP.jpg
ORGANIZER;CN="Helse Kulturverein":MAILTO:info@helse.ch
END:VEVENT
BEGIN:VEVENT
DTSTART;VALUE=DATE:20181101
DTEND;VALUE=DATE:20181215
DTSTAMP:20260425T184034
CREATED:20180927T071247Z
LAST-MODIFIED:20181216T145343Z
UID:4427-1541030400-1544831999@www.helse.ch
SUMMARY:Južni vetar
DESCRIPTION:JUŽNI VETAR – velika premijera 01. novembra\nPriča o prijateljstvu\, buntu\, ljubavi\, vernosti i ambiciji. \nU životu Petra Maraša\, pripadnika beogradske automobilske mafije\, stvari počinju da dobijaju smisao. Napušta roditeljski dom i sa dugogodišnjom devojkom Sofijom se useljava u svoj novi stan. Klan čiji je pripadnik\, a kojim upravlja iskusni „Car“\, dobro „radi“. Posao je uigran\, novca ima dovoljno za sve\, a policija im ne pravi probleme.\nSve će se to promeniti kada Maraš slučajno zameri brutalnom narko klanu. \nSmešten u savremeni kontekst beogradskog asfalta\, Južni vetar preispituje granice međuljudskih odnosa u svetu u kome vladaju krvavi interesi. \nMiloš Biković u novoj životnoj ulozi!\nNebojša Glogovac u svojoj poslednjoj ulozi na velikom platnu!\nDragan Bjelogrlić u ulozi koja je pobrala silne nagrade širom regiona! \nOstale uloge: Miodrag Radonjić\, Miloš Timotijević\, Jovana Stojiljković\, Srđan „Žika” Todorović\, Bogdan Diklić\, Hristo Šopov\, Ivaylo Zahariev\, Aleksandar Berček\, Deniz Abdula\, Miloš Petrović\, Milan Nikitović\,Ljubomir Nikolić.\n\nNe propustite premijeru srpskog akcionog trilera godine – 01.11.2018. u Švajcarskoj! \n  \nODABERI BIOSKOP I KUPI KARTU\n \n\n \n 
URL:https://www.helse.ch/event/juzni-vetar-velika-premijera-01-novembra/
LOCATION:RiffRaff Kino\, Neugasse 57-63\, Zürich\, Zürich\, 8005\, Switzerland
CATEGORIES:Bioskop
ATTACH;FMTTYPE=image/jpeg:https://www.helse.ch/wp-content/uploads/2018/09/JV-event.jpg
ORGANIZER;CN="Helse Kulturverein":MAILTO:info@helse.ch
END:VEVENT
BEGIN:VEVENT
DTSTART;TZID=UTC:20181017T184000
DTEND;TZID=UTC:20181017T184000
DTSTAMP:20260425T184034
CREATED:20180924T134159Z
LAST-MODIFIED:20180925T052218Z
UID:4414-1539801600-1539801600@www.helse.ch
SUMMARY:Dokumentarni film "Hotel Jugoslavija"
DESCRIPTION:Prvo i veliko ostvarenje mladog režisera Nicolas Wagnieres o najpoznatijem hotelu u tadašnjoj bivšoj Jugoslaviji\, Hotelu Jugoslavija. \nDo izbijanja rata 1991. godine na teritoriji bivše Jugoslavije\, bratstvo i jedinstvo su bili ukorenjeni ideali društva. Titoizam je u to vreme porizvodio dalekosežnu samoupravu radnika. Godine 2005.\, 25 godina nakon smrti predsednika Josipa Broza Tita\, Nicolas počinje svoje istraživanje o nekada izgubljenim vrednostima bivše Jugoslavije. Kao švajcarac sa srpskim korenima po majčinoj strani\, inspiraciju je nalazio u sećanjima o događajima u bivšoj Jugoslaviji povezanim sa istorijom regiona. Veliki preobražaj nekada poynatog Hotela Jugoslavije u Beogradu\, ikone modernizma iz 1969. godine\, pokazuje ogromene promene koje su se u zemlji i njenim ljudima odvijale u poslednih 40 godina. Veliko odumiranje i propadanje arhitekture postjugoslovenske Srbije\, Wagnieres je pokušao da predstavi kroz 16 slika ukomponovanih u ovaj dokumentarac\, kao njegov personalni i politički esej. \nFilm ima svoju veliku premijeru 17.10.2018. u bioskopu RiffRaff\, gde će nastaviti da se prikazuje svake nedelje u matine terminu. \n \n \n  \nKupi kartu\n 
URL:https://www.helse.ch/event/dokumentarni-film-hotel-jugoslavija/
LOCATION:RiffRaff Kino\, Neugasse 57-63\, Zürich\, Zürich\, 8005\, Switzerland
CATEGORIES:Bioskop
ATTACH;FMTTYPE=image/jpeg:https://www.helse.ch/wp-content/uploads/2018/09/HOTEL-JUGOSLAVIJA_STILL_08.jpg
END:VEVENT
BEGIN:VEVENT
DTSTART;TZID=UTC:20180928T223000
DTEND;TZID=UTC:20180928T223000
DTSTAMP:20260425T184034
CREATED:20180906T105307Z
LAST-MODIFIED:20180914T071340Z
UID:4384-1538173800-1538173800@www.helse.ch
SUMMARY:S.A.R.S
DESCRIPTION:S.A.R.S.\nVelika žurka u klubu Elit sa grupom S.A.R.S.\nSveže amputirana ruka Satrijanija (skraćeno S.A.R.S.) muzički je sastav iz Resnika. \nNjihova muzika je svojevrsna kombinacija pop\, rock\, regge\, hip-hop i bluz muzike sa elementima tradicionalnog srpskog folka. \n  \n\n\n \n  \nVeć godinama su koncerti benda S.A.R.S. sinonim za dobar provod.\nNe mora mnogo da se priča\, Cirih voli SARS\, a i SARS voli da nastupa u Cirihu.\nProverite zašto ako već niste ili se podsetite nekih od najboljih provoda na kojima ste bili prethodnih godina 🙂 \nPetak 28. septembar Elite Club Zurich i koncet SARS-a su dovoljan razlog da se družimo i da zajednom pevamo pesme koje su obeležile savremenu rok muziku u regionu.\nVrata Elite kluba se otvaraju 22:30h. \nKarte se mogu kupiti na večernjoj kasi po ceni od 35chf.
URL:https://www.helse.ch/event/s-a-r-s/
LOCATION:Elite Club\, Hohlstrasse 452\, Zürich\, 8048\, Switzerland
CATEGORIES:Koncert
ATTACH;FMTTYPE=image/jpeg:https://www.helse.ch/wp-content/uploads/2018/09/sars.jpg
ORGANIZER;CN="Helse Kulturverein":MAILTO:info@helse.ch
END:VEVENT
BEGIN:VEVENT
DTSTART;TZID=UTC:20180918T201500
DTEND;TZID=UTC:20180918T230000
DTSTAMP:20260425T184034
CREATED:20180808T062748Z
LAST-MODIFIED:20180913T185746Z
UID:4358-1537301700-1537311600@www.helse.ch
SUMMARY:Varljivo leto '68
DESCRIPTION:Varljivo leto ’68\nJedan je od kultnih filmova na našim prostorim\, najprepoznatljiviji po glumcu legendarnog Danila Bate Stojković\, koji je u njemu odglumeo ulogu svog života. Ovaj domaći film snimljen je 1984. godine u režiji Gorana Paskaljevića\, dok je za scenario bio zadužen izvanredni Gordan Mihić. Glavna uloga je pripala fenomenalnom Slavku Štimcu koji tumači ulogu zaljubljenog Petra pored Bate Stojkovića kao strogog oca. \nNe propustite da pogledate ovo kultno ostvaranje koje ce biti prikazano na Bloom Freiluftkino Festival. \nLandesmuseum Zürich Gartenhof\nMuseumsstrasse 2\n8021 Zürich \n  \n  \nKupi kartu\n \n \nCena karte sa promotivivnim kodom je 15chf\nPROMO KOD: helse18\n \n \n 
URL:https://www.helse.ch/event/varljivo-leto-68/
LOCATION:Landesmuseum  Zürich\, Museumsstrasse 2\, Zürich\, 8021\, Switzerland
CATEGORIES:Bioskop
ATTACH;FMTTYPE=image/jpeg:https://www.helse.ch/wp-content/uploads/2018/08/varljivo-leto-event.jpg
ORGANIZER;CN="Helse Kulturverein":MAILTO:info@helse.ch
END:VEVENT
BEGIN:VEVENT
DTSTART;VALUE=DATE:20180901
DTEND;VALUE=DATE:20180903
DTSTAMP:20260425T184034
CREATED:20180731T111426Z
LAST-MODIFIED:20180825T135042Z
UID:4342-1535760000-1535932799@www.helse.ch
SUMMARY:NLP - OTKAZANO!!!
DESCRIPTION:OTKAZANO USLED TEHNIČKIH RAZLOGA!!!\nNLP BASIC EDUKACIJA\n\n\nPočetkom septembra u Cirih dolazi CARS Coaching Srbija sa svojim NLP seminarom.\n \n\nNLP je priznata metoda kojom se kroz komunikaciju i motivaciju u prijatnom ambijentu dolazi do unapređenja poslovnih uspeha i ličnog napredovanja.\nAko razumete kako ljudi razmišljaju\, kako se osećaju i na koji način doživljavaju određene situacije\, možete im pomoći da unaprede svaki od tih segmenata kako bi bili uspešniji i kako bi se bolje snalazili u poslovnom i privatnom okruženju.\nDođite i uverite se.\nOdvojite vikend samo za sebe. Unapredite svoje sposobnosti kako bi donosili kvalitetnije odluke u budućnosti.\n\n \nPožurite\, broj mesta je ograničen!\nInformacije i rezervacije na: info@helse.ch \n \n\n 
URL:https://www.helse.ch/event/nlp-neuro-lingvisticko-programiranje/
LOCATION:Volkshaus Zürich\, Stauffacherstrasse 60\, Zürich\, 8004\, Switzerland
CATEGORIES:Predavanja
ATTACH;FMTTYPE=image/jpeg:https://www.helse.ch/wp-content/uploads/2018/07/nlp-otkazano-1.jpg
ORGANIZER;CN="Helse Kulturverein":MAILTO:info@helse.ch
END:VEVENT
BEGIN:VEVENT
DTSTART;VALUE=DATE:20180601
DTEND;VALUE=DATE:20180602
DTSTAMP:20260425T184034
CREATED:20180326T145756Z
LAST-MODIFIED:20180326T170445Z
UID:4325-1527811200-1527897599@www.helse.ch
SUMMARY:Ubrzo sa novim dogadjanjima
DESCRIPTION:
URL:https://www.helse.ch/event/ubrzo-sa-novim-dogadjanjima/
LOCATION:Zürich
ATTACH;FMTTYPE=image/jpeg:https://www.helse.ch/wp-content/uploads/2018/03/ljubicasto.jpg
END:VEVENT
BEGIN:VEVENT
DTSTART;TZID=UTC:20180325T180000
DTEND;TZID=UTC:20180325T180000
DTSTAMP:20260425T184034
CREATED:20171220T170250Z
LAST-MODIFIED:20180323T052613Z
UID:3876-1522000800-1522000800@www.helse.ch
SUMMARY:Ženski razgovori
DESCRIPTION:RASPRODATO!!!\nUrnebesna komedija\nŽENSKI RAZGOVORI\n\nPoslastica za sve ljubitelje pozorišta. \nŽenski Razgovori\, komedija za sva vremena nastala po čuvenoj knjizi Duška Radovića koju na sceni oživljavaju legende domaćeg glumišta: Vesna Čipčić\, Svetlana Bojković i Milan Caci Mihajlović. Kombinacija koja garantuje sjajno pozorišno veče.\nUrnebesno duhovita i šarmatnta priča o ženama\, muškarcima njihovim razgovorima i razmišljanjima koja će vas opustiti i nasmejati od srca u stilu legendarnih pozorišnih komedija. \n  \nO PREDSTAVI: \nŠta umesto muškaraca? \nUzmimo\, na primer\, da žene nemaju više nikakva posla sa muškarcima. E\, sad me samo zanima – šta je to što mi žene dobijamo umesto muškaraca? Evo\, uzmimo šta bi to moglo da bude? Da li su to mačke\, kučići\, štiglići\, zlatne ribice – šta je to?\nDrage moje\, mi možemo da kažemo i da se složimo da muškarci nisu neke cvećke i premije. Naprotiv! Međutim\, koliko ja znam\, još nije izmišljeno ništa bolje! Muškarci su i ovakvi i onakvi – to je tačno! – ali\, kakvi su da su oni su ipak muškarci…. a sve drugo su trice i kučine!\nNišta ne vredi……. Nego kad nestanu muškarci iz našeg života – najbolje je da nestanemo i mi! Zajedno smo stvoreni\, da zajedno živimo – pa ako to ne može da bude – molim\, to znači da je došao kraj sveta! Nemam ništa protiv! A da se ja vodam s kučetom umesto sa muškarcem – izvinite! Ili da čitam knjige umesto da razgovaram s nekim čovekom – to ne dolazi u obzir! Dok se ne izmisli ništa drugo i bolje – moraćemo da ratujemo sa muškarcima.\nI da ih volimo\, i da ih mrzimo…. kako kad…. ali tek da su tu negde\, blizu.
URL:https://www.helse.ch/event/zenski-razgovori/
LOCATION:Hotel Kronenhof\, Wehntalerstrasse 551\, Zürich\, 8046\, Switzerland
CATEGORIES:Pozoriste
ATTACH;FMTTYPE=image/jpeg:https://www.helse.ch/wp-content/uploads/2017/12/visual-prvi.jpg
ORGANIZER;CN="Helse Kulturverein":MAILTO:info@helse.ch
END:VEVENT
BEGIN:VEVENT
DTSTART;VALUE=DATE:20180316
DTEND;VALUE=DATE:20180319
DTSTAMP:20260425T184034
CREATED:20180215T112909Z
LAST-MODIFIED:20180306T105915Z
UID:4014-1521158400-1521417599@www.helse.ch
SUMMARY:Patuljci sa naslovnih strana
DESCRIPTION:KUPI KARTU ZA CIRIH\n   Kupi kartu za Luzern\n \nPATULJCI SA NASLOVNIH STRANA \nRežija: Milorad Milinković\nUloge: Gordan Kičić\, Boris Milivojević\, Aleksandar Radojičić\, Milena Radulović\, Marko Gvero\, Jelena Đukić\, Ljuba Bandović\,\nTamara Krcunović\, Rale Milenković\, Olga Odanović\, Novak Radulović\nŽanr: komedija\nScenario: Milorad Milinković\nProducent: Predrag Bajčetić\nProdukcijska kuća: Bombona Production \n  \n \nNikola (Gordan Kičić) ima četrdesetak godina i vodeća je zvezda reality programa koji se zove ’’Tri minuta slave’’. U praksi to izgleda tako što on\nbezobrazno vređa ljude koji se na taj šou prijave i zbog toga je jako cenjen i odlično plaćen. Njegove zlobne i otrovne reči magnetski privlače gledalište i rejtinge\ndižu do nebesa. Osim toga\, on smišlja i razne druge reality formate\, kao i razne skrivene kamere. Njegov život je zapravo reality program. Njegov najbolji prijatelj\nZoran (Boris Milivojević) je vlasnik medijske kuće koja se bavi proizvodnjom raznih reality formata\, a žena njegovog prijatelja Mira (Tamara Krcunović) je njegova\nnajveća ljubav iz mladosti\, što\, naravno\, niko osim njih dvoje ne zna. \nNikolin život počinje da se menja u trenutku kada smišlja način kako da od mlade devojke koju gura njena ambiciozna majka\, naprave zvezdu. Smeštaju joj\nskrivenu kameru koja se otima kontroli i on počinje da se pita: je li sve to zapravo nameštaljka\, tj. skrivena kamera koju podmeću njemu?\nKada se uveri da su određene okolnosti ipak stvarne\, prinuđen je da spasava sopstvenu kožu na način na koji jedino i zna… pomoću reality programa.\nAli\, on mora da razluči najvažnije: da li je ceo njegov život jedan veliki reality? I šta je u svemu stvarno\, a šta samo izmišljotina koja donosi rejtinge? \n \n 
URL:https://www.helse.ch/event/patuljci-sa-naslovnih-strana/
LOCATION:RiffRaff Kino\, Neugasse 57-63\, Zürich\, Zürich\, 8005\, Switzerland
CATEGORIES:Bioskop
ATTACH;FMTTYPE=image/jpeg:https://www.helse.ch/wp-content/uploads/2018/02/FB2.jpg
ORGANIZER;CN="Helse Kulturverein":MAILTO:info@helse.ch
END:VEVENT
BEGIN:VEVENT
DTSTART;TZID=UTC:20180310T200000
DTEND;TZID=UTC:20180310T200000
DTSTAMP:20260425T184034
CREATED:20171227T072948Z
LAST-MODIFIED:20171227T074953Z
UID:3976-1520712000-1520712000@www.helse.ch
SUMMARY:Šta me snađe - Rorschach
DESCRIPTION:KUPI KARTU\nAnđelka Prpić u hit komediji\nŠTA ME SNAĐE\nZbog ogromnog interesovanja i fantastičnih utisaka onih koji su kupili karte na vreme\, ponovo nam dolazi  Andjelka Prpić sa svojom urnebesnom komedijom “Šta me snadje”. I to ovaj put imamo dve predstave.  \nIdealan osmomartovski poklon je ulaznica za najbolju pozorišnu komediju u regionu. Mislili smo na vas pa smo predstave i zakazali u tom periodu. Nabavite svoje ulaznice na vreme kako bi sa voljenom osobom uživali u još jednoj nezaboravnoj večeri sa šarmatntom i duhovitom Andjom. \n  \nO PREDSTAVI: \nIz pera jednog od najznačajijih domaćih dramskih pisaca Nebojše Romčevića i u režiji jednog od najvažnijih domaćih komičara Branka Djurića Djure\, stiže nam nova hit komedija “Šta me snađe” koju nam sa scene donosi glumica fantastičnog talenta\, Andjelka Prpić. \n“Šta me snađe” je predivna priča o bankarskoj službenici Jovanki Joki Jakovljević kojoj se usled povrede njene šefice ukazuje iznenadna prilika da prisusutvuje bankarskom seminaru. Stvari postaju ozbiljne kada se Joki počne “nabacivati” sin od direktora banke za koju radi. Sin je inače osoba koju bije glas da je jedina osoba preko kojeg je napredak u karijeri zagarantovan. Kad sazna da je njena pozicija ozbiljno ugrožena Jokinim poznanstvom s direktorovim sinom\, Jokina šefica je prijavljuje policiji zbog ucene….I tada se stvari počinju komplikovati.
URL:https://www.helse.ch/event/sta-me-snade-rorschach/
LOCATION:Stadthof Rorschach\, Kirchstrasse 9\, Rorschach\, 9400\, Switzerland
CATEGORIES:Pozoriste
ATTACH;FMTTYPE=image/jpeg:https://www.helse.ch/wp-content/uploads/2017/12/anjda-sa-andjelcicima-plain.jpg
END:VEVENT
BEGIN:VEVENT
DTSTART;TZID=UTC:20180309T210000
DTEND;TZID=UTC:20180309T210000
DTSTAMP:20260425T184034
CREATED:20171224T151931Z
LAST-MODIFIED:20180227T110223Z
UID:3973-1520629200-1520629200@www.helse.ch
SUMMARY:Šta me snađe - Cirih
DESCRIPTION:RASPRODATO!!!\nAnđelka Prpić u hit komediji\nŠTA ME SNAĐE\nZbog ogromnog interesovanja i fantastičnih utisaka onih koji su kupili karte na vreme\, ponovo nam dolazi  Andjelka Prpić sa svojom urnebesnom komedijom “Šta me snadje”. I to ovaj put imamo dve predstave.  \nIdealan osmomartovski poklon je ulaznica za najbolju pozorišnu komediju u regionu. Mislili smo na vas pa smo predstave i zakazali u tom periodu. Nabavite svoje ulaznice na vreme kako bi sa voljenom osobom uživali u još jednoj nezaboravnoj večeri sa šarmatntom i duhovitom Andjom. \n  \nO PREDSTAVI: \nIz pera jednog od najznačajijih domaćih dramskih pisaca Nebojše Romčevića i u režiji jednog od najvažnijih domaćih komičara Branka Djurića Djure\, stiže nam nova hit komedija “Šta me snađe” koju nam sa scene donosi glumica fantastičnog talenta\, Andjelka Prpić. \n“Šta me snađe” je predivna priča o bankarskoj službenici Jovanki Joki Jakovljević kojoj se usled povrede njene šefice ukazuje iznenadna prilika da prisusutvuje bankarskom seminaru. Stvari postaju ozbiljne kada se Joki počne “nabacivati” sin od direktora banke za koju radi. Sin je inače osoba koju bije glas da je jedina osoba preko kojeg je napredak u karijeri zagarantovan. Kad sazna da je njena pozicija ozbiljno ugrožena Jokinim poznanstvom s direktorovim sinom\, Jokina šefica je prijavljuje policiji zbog ucene….I tada se stvari počinju komplikovati.
URL:https://www.helse.ch/event/sta-me-snade-za-dan-zena/
LOCATION:Kirchgemeindehaus  Neumünster\, Seefeldstrasse 91\, Zürich\, Zürich\, 8008\, Switzerland
CATEGORIES:Pozoriste
ATTACH;FMTTYPE=image/jpeg:https://www.helse.ch/wp-content/uploads/2017/12/anjda-sa-andjelcicima-plain.jpg
ORGANIZER;CN="Helse Kulturverein":MAILTO:info@helse.ch
END:VEVENT
BEGIN:VEVENT
DTSTART;TZID=UTC:20171215T210000
DTEND;TZID=UTC:20171215T210000
DTSTAMP:20260425T184034
CREATED:20171101T094724Z
LAST-MODIFIED:20171212T063012Z
UID:3660-1513371600-1513371600@www.helse.ch
SUMMARY:Šta me snađe
DESCRIPTION:Anđelka Prpić u hit komediji\nŠTA ME SNAĐE\nIz pera jednog od najznačajijih domaćih dramskih pisaca Nebojše Romčevića i u režiji jednog od najvažnijih domaćih komičara Branka Djurića Djure\, stiže nam nova hit komedija “Šta me snađe” koju nam sa scene donosi glumica fantastičnog talenta\, Andjelka Prpić. \n“Šta me snađe” je predivna priča o bankarskoj službenici Jovanki Joki Jakovljević kojoj se usled povrede njene šefice ukazuje iznenadna prilika da prisusutvuje bankarskom seminaru. Stvari postaju ozbiljne kada se Joki počne “nabacivati” sin od direktora banke za koju radi. Sin je inače osoba koju bije glas da je jedina osoba preko kojeg je napredak u karijeri zagarantovan. Kad sazna da je njena pozicija ozbiljno ugrožena Jokinim poznanstvom s direktorovim sinom\, Jokina šefica je prijavljuje policiji zbog ucene….I tada se stvari počinju komplikovati. \nKARTE SU RASPRODATE
URL:https://www.helse.ch/event/sta-me-snadje/
LOCATION:Kirchgemeindehaus  Neumünster\, Seefeldstrasse 91\, Zürich\, Zürich\, 8008\, Switzerland
CATEGORIES:Pozoriste
ATTACH;FMTTYPE=image/jpeg:https://www.helse.ch/wp-content/uploads/2017/11/event-img.jpg
ORGANIZER;CN="Helse Kulturverein":MAILTO:info@helse.ch
END:VEVENT
BEGIN:VEVENT
DTSTART;TZID=UTC:20171105T180000
DTEND;TZID=UTC:20171105T180000
DTSTAMP:20260425T184034
CREATED:20170918T103104Z
LAST-MODIFIED:20171101T111255Z
UID:2999-1509904800-1509904800@www.helse.ch
SUMMARY:Stand Up Srđan Jovanović
DESCRIPTION:Rezervišite vašu kartu na vremeDrinx Bar\, ZürichVašu ulaznicu možete rezervisati:\n– kontaktiranjem putem e-maila na adresu: info@drinxbar.ch\n \nBroj mesta je ograničen. \n\nSRĐAN JOVANOVIĆ – STAND UP SHOW\nDođite u Drinx Bar da se dobro zabavimo!\nGrupna terapija na duhovit način\, kroz bizarne priče i imitacije\, bez cenzure\, opisuje vreme i prostor u kome živimo\, probleme sa kojima se susrećemo i teme koje ne želimo da pominjemo. Kao materijal za predstavu\, Srđan koristi upravo proces  stvaranja samog stan up-a\, otkrivajući nam sve probleme sa kojima se susretao u svom pionirskom pokušaju. Ogoljena\, šarmantna\, smela i maštovita\, predstava nudi plejadu likova\, od političara\, poznanika\, kolega\, rodbine\, preko zdravstvenih radnika\, bankarskih službenika i živopisnih događaja\, koji se hronološki nižu u jednu celinu. \nVidimo se 05. novembra.
URL:https://www.helse.ch/event/stand-up-srdan-jovanovic/
LOCATION:Drinx Bar\, Dufourstrasse 24\,\, Zürich\, 8008\, Switzerland
CATEGORIES:stand up
ATTACH;FMTTYPE=image/jpeg:https://www.helse.ch/wp-content/uploads/2017/09/website-1.jpg
ORGANIZER;CN="Helse Kulturverein":MAILTO:info@helse.ch
END:VEVENT
BEGIN:VEVENT
DTSTART;TZID=UTC:20171014T200000
DTEND;TZID=UTC:20171014T200000
DTSTAMP:20260425T184034
CREATED:20170912T064320Z
LAST-MODIFIED:20170914T061446Z
UID:2943-1508011200-1508011200@www.helse.ch
SUMMARY:Stand Up Nikola Djuricko
DESCRIPTION:KUPI KARTU\nNIKOLA ĐURICKO – STAND UP SHOW\nSve što ste hteli da znate o Džoniju\, a niste smeli da ga pitate!\nNikola Đuričko kakvog do sada niste videli a voleli bi da ga upoznate.\nPored svih filmova\, pozorišnih predstava\, serija\, emisija… On je uvek Dzoni. Šarmantni\, duhoviti momak iz Beograda u čijem društvu je uvek veselo i zanimljivo.\nUživo sa scene Volkshaus Zürich\, Nikola će vam pričati zanimljive i duhovite priče vezane za njega i situacije u kojima se nalazio.\nGarantujemo vam fenomenalno veče prepuno dobrog humora i pozitivne energije uz stvarno ekskluzivnu priliku da jednog od najpopularnijih glumaca današnjice upoznate u opuštenoj atmosferi Stand Up nastupa.\nOvo će biti njegovo prvo stand up veče u Cirihu\, nemojte ga propustiti.\n  \nhttps://youtu.be/JnOXkabfDjo \n 
URL:https://www.helse.ch/event/stand-up-nikola-djuricko/
LOCATION:Volkshaus Zürich\, Stauffacherstrasse 60\, Zürich\, 8004\, Switzerland
CATEGORIES:Pozoriste
ATTACH;FMTTYPE=image/jpeg:https://www.helse.ch/wp-content/uploads/2017/09/djuricko-plain.jpg
ORGANIZER;CN="Helse Kulturverein":MAILTO:info@helse.ch
END:VEVENT
BEGIN:VEVENT
DTSTART;TZID=UTC:20170922T230000
DTEND;TZID=UTC:20170922T230000
DTSTAMP:20260425T184034
CREATED:20170912T052627Z
LAST-MODIFIED:20170913T123541Z
UID:2927-1506121200-1506121200@www.helse.ch
SUMMARY:Koncert grupe SARS
DESCRIPTION:KUPI KARTU\nS.A.R.S.\nVelika žurka u klubu Elit sa grupom S.A.R.S.\nSveže amputirana ruka Satrijanija (skraćeno S.A.R.S.) muzički je sastav iz Resnika. Njihova muzika je svojevrsna kombinacija pop\, rock\, regge\, hip-hop i bluz muzike sa elementima tradicionalnog srpskog folka. \n  \n\n\n \n  \nVeć godinama su koncerti benda S.A.R.S. sinonim za dobar provod.\nNe mora mnogo da se priča\, Cirih voli SARS\, a i SARS voli da nastupa u Cirihu.\nProverite zašto ako već niste ili se podsetite nekih od najboljih provoda na kojima ste bili prethodnih godina 🙂 \nPetak 22. septembar Elite Club Zurich i koncet SARS-a su dovoljan razlog da se družimo i da zajednom pevamo pesme koje su obeležile savremenu rok muziku u regionu.
URL:https://www.helse.ch/event/koncert-grupe-sars/
LOCATION:Elite Club\, Hohlstrasse 452\, Zürich\, 8048\, Switzerland
CATEGORIES:Koncert
ATTACH;FMTTYPE=image/jpeg:https://www.helse.ch/wp-content/uploads/2017/09/website.jpg
ORGANIZER;CN="Helse Kulturverein":MAILTO:info@helse.ch
END:VEVENT
BEGIN:VEVENT
DTSTART;TZID=UTC:20170915T203000
DTEND;TZID=UTC:20170915T203000
DTSTAMP:20260425T184034
CREATED:20170814T070749Z
LAST-MODIFIED:20170913T123624Z
UID:2772-1505507400-1505507400@www.helse.ch
SUMMARY:Ubi me kurje oko
DESCRIPTION:KUPI KARTU\nUBI ME KURJE OKO\nNaše slabosti su često naš najveći blagoslov\nPriča malog čoveka u ​Prvom svetskom ratu ispričana isledniku 1945. po oslobodjenju Beograda u prisustvu daktilografkinje.\nČesi\, u literaturi\, imaju Dobrog vojnika Švejka… mi imamo Andjelka Markovića… Andjelko je siroče\, ostavljen ispred vodenice\, čuvao svinje i otišao u Prvi svetski rat\, kao dobrovoljac… ima dve mane – “Prva mana je da mu je telo izraslo veliko\, a srce ostalo malo\, ko kamičak\, a druga mana je – kurje oko.”\nPozorišna predstava ‘Ubi me kurje oko’ је priča priprostog seljaka koja obuhvata sve herojske pobede od Kolubare i Cera\, preko albanske epopeje\, do Soluna i konačne pobede. Predstava koja obiluje elementima zabune tri lika koji se čas sukobljavaju čas pomažu na sceni.\nPredstavu nosi fantasticni Srdjan Ivanovic a u stopu ga prati glumac Narodnog pozorišta u Beogradu – Andreja Maricic i glumica Jugoslovenskog dramskog pozorišta Vesna Stanković. \nUloge:  \nSrdjan Ivanović\, Andeja Mari​č​ić i Vesna Stanković \nRežija: Vesna Stanković\nKompozitor: Branislav Pipović\nKostimograf: Ružica Ristić\nScenografija: “Radionica”\nTeatar i produkcija – Balkan Novi Pokret
URL:https://www.helse.ch/event/ubi-me-kurje-oko/
LOCATION:Kirchgemeindehaus  Neumünster\, Seefeldstrasse 91\, Zürich\, Zürich\, 8008\, Switzerland
ATTACH;FMTTYPE=image/jpeg:https://www.helse.ch/wp-content/uploads/2017/08/ticketfrog-kurije-oko.jpg
ORGANIZER;CN="Helse Kulturverein":MAILTO:info@helse.ch
END:VEVENT
END:VCALENDAR