BEGIN:VCALENDAR
VERSION:2.0
PRODID:-//HELSE - ECPv6.15.20//NONSGML v1.0//EN
CALSCALE:GREGORIAN
METHOD:PUBLISH
X-WR-CALNAME:HELSE
X-ORIGINAL-URL:https://www.helse.ch
X-WR-CALDESC:Events for HELSE
REFRESH-INTERVAL;VALUE=DURATION:PT1H
X-Robots-Tag:noindex
X-PUBLISHED-TTL:PT1H
BEGIN:VTIMEZONE
TZID:UTC
BEGIN:STANDARD
TZOFFSETFROM:+0000
TZOFFSETTO:+0000
TZNAME:UTC
DTSTART:20160101T000000
END:STANDARD
END:VTIMEZONE
BEGIN:VEVENT
DTSTART;TZID=UTC:20230312T190000
DTEND;TZID=UTC:20230312T200000
DTSTAMP:20260424T140648
CREATED:20230215T092701Z
LAST-MODIFIED:20230215T094411Z
UID:11384-1678647600-1678651200@www.helse.ch
SUMMARY:Andrija Dabanovic
DESCRIPTION:SRB \n\nO STAND UP SHOW-u\n  \nMOKRE GLAVE\n\nANDRIJA DABANOVIĆ – Stand up show\n12.MART u 19h\nVolkshaus Zurich\,\nStauffacherstrasse 60\,\n8004 ZURICH\n \n  \nStand-up show “Mokre glave” govori o Dabanovićevom odrastanju u Podgorici\, burnom detinjstvu\, kockarskoj zavisnosti i odupiranju istoj. \nOvo je priča o životnim usponima i strmoglavim padovima\, karakternoj transofrmaciji i vaspitanju koje je na prvom mestu podrazumevalo zabranu Andrijnog izlaska mokre glave napolje\, kao preduslov za zdravo i bezbrižno djetinstvo. Kao nestašno dete\, često je bio kažnjavan od strane roditelja\, što je u njemu izazivalo revolt i buntovništvo. \nDanas\, nakon toliko godina\, Andrija se u svojoj predstavi iskreno priseća prošlosti\, bez dlake na jeziku. Međutim\, zbog dinamičnosti i energičnosti koju pokazuje na sceni\, uprkos njegovoj želji\, on ipak ne uspeva ispuniti dugogodišnji zahtev njegovih roditelja\, te u jednom trenutku\, spletom okolnosti\, svoj nastup počinje izvoditi mokre glave. \n \nAutor: Andrija Dabanović\n  \nSnimanje i slikanje tokom show-a NIJE DOZVOLJENO. \n \n \n \nCena karte: 25 chf \n\n \n \nKUPI KARTU\n \n 
URL:https://www.helse.ch/event/andrija-dabanovic/
LOCATION:Volkshaus Zürich\, Stauffacherstrasse 60\, Zürich\, 8004\, Switzerland
CATEGORIES:stand up
ATTACH;FMTTYPE=image/webp:https://www.helse.ch/wp-content/uploads/2023/02/ANDRIJA-D.webp
ORGANIZER;CN="Helse Kulturverein":MAILTO:info@helse.ch
END:VEVENT
BEGIN:VEVENT
DTSTART;TZID=UTC:20230305T190000
DTEND;TZID=UTC:20230305T200000
DTSTAMP:20260424T140648
CREATED:20230125T121515Z
LAST-MODIFIED:20230215T100109Z
UID:11369-1678042800-1678046400@www.helse.ch
SUMMARY:Djuricko
DESCRIPTION:SRB \n\nO STAND UP SHOW-u\n  \nSHOWBIZ\n\nNovi stand up show od Nikole Djuricka\n05.MART u 19h\nVolkshaus Zurich\,\nStauffacherstrasse 60\,\n8004 ZURICH\n \n \nNakon 3 godine od vrlo uspešnog stand up-a Nikole Đurička \,\, Sve što ste hteli da znate o Dzoniju a niste smeli nikad da ga pitate” Nikola Đuričko spremio je novi program pod nazivom \,\, Show biz” i ove zime u periodu od mesec dana nastupaće u Srbiji regionu i dijaspori u okviru velike turneje koja će trajati mesec dana. \nNovi material kao i prošlog puta Nikola Đuričko je pisao sam a tiče se njegovog života karijere i porodice. I ovaj šou ima za cilj da ispriča na duhovit način zanimljive detalje iz njegovog života i karijere. \nNikola Đuričko:\n’’SHOW BIZ?’’ je moj novi stend up šou\nSkoro tri godine nisam nastupao pa sam se uželeo ljudi\, publike.\nImam puno novog materijala\, recimo zašto su me hvatali u kragnu\,\nzašto sam morao da prisustvujem porođaju ili zašto sam prijavio sina u policiju.\nTo su samo neka nova životna iskustva i saznanja koja želim da podelim sa ljudima.” \n \nDžoni zlatousti\, čovek koji rečima leči.\nHumor za duhovite.\n \nAutor: Nikola Đuričko \n  \nDomaćin show-a će biti fenomenalni Sven Ivanić  koji će vas zabaviti u kratkom WARM-UP nastupu. \nOČEKUJTE JEDNO FENOMENALNO VEČE SA PUNO DOBROG HUMORA!!! \n  \nSnimanje i slikanje tokom show-a NIJE DOZVOLJENO. \n \n \n \nCena karte: 35chf i 40chf \n\n \n \nKUPI KARTU\n \n\n 
URL:https://www.helse.ch/event/djuricko/
LOCATION:Volkshaus Zürich\, Stauffacherstrasse 60\, Zürich\, 8004\, Switzerland
CATEGORIES:stand up
ATTACH;FMTTYPE=image/webp:https://www.helse.ch/wp-content/uploads/2023/01/EVENT.webp
ORGANIZER;CN="Helse Kulturverein":MAILTO:info@helse.ch
END:VEVENT
BEGIN:VEVENT
DTSTART;TZID=UTC:20230204T200000
DTEND;TZID=UTC:20230204T210000
DTSTAMP:20260424T140648
CREATED:20221214T092924Z
LAST-MODIFIED:20221216T081814Z
UID:11343-1675540800-1675544400@www.helse.ch
SUMMARY:Dasko i Mladja Comedyhaus
DESCRIPTION:SRB \n\nO STANDUP SHOW-U\n \n \nPOVRATAK U CIRIH U VELIKOM STILU \nCHABARET SA DAŠKOM I MLAĐOM\n04. FEBRUAR 2023. u 20h\nCOMEDY HAUS\,\nAlbisriederstrasse 16\,\n8003 ZURICH\n  \nPonovo u vašem gradu! Spektakl koji možete propustiti i to vrlo lako pa zato pazite da se to i ne desi. Legendarni Daško i Mlađa ponovo dolaze u zemlju ukusnih satova i preciznih sireva. Nakon što su samouvereno pokorili jedan oveći kafić\, sada su se odvažili da pokušaju da napune pravu pravcatu salu comedy kluba te na taj način moooožda nešto i zarade. \nNjihov britki\, često mračni ali uvek smešni humor (ovo je verovatno pleonazam) učiniće da vam bude drago što živite u Švajcarskoj a ne u Srbiji. Dolaze da vas podsete da ste učinili nekoliko dobrih izbora u svom životu a uz simboličnu nadoknadu doneće vam nešto od vaših ili im nešto od vas odneti u zavičaj. Osim toga\, provaljivaće vrhunske fazone a malo i zapevati. Ništa ozbiljno! Dođite da se izložite njihovim nepopularnim stavovima upakovanim u ne baš urnebesni ali objektivno sasvim OK šou. Bolje ovako pa da se oduševite nego da očekujete lepe ljude na bini i gutačice vatre sa šajkačama na glavi pa da se razočarate.\nBiće super!\n \nIZVOĐAČI: Daško Milinović i Mladen Urdarević-Mlađa \n \n \nCena karte: \n25 chf \n\n \n \n \nSnimanje i slikanje tokom nastupa NIJE DOZVOLJENO.\n \n \nKUPI KARTU\n \n \n\n  \n 
URL:https://www.helse.ch/event/dasko-i-mladja-comedyhaus/
LOCATION:ComedyHaus\, Albisriederstrasse 16\, Zurich\, Zurich\, 8003\, Switzerland
CATEGORIES:stand up
ATTACH;FMTTYPE=image/webp:https://www.helse.ch/wp-content/uploads/2022/12/dasko-i-mladja-23.webp
ORGANIZER;CN="Helse Kulturverein":MAILTO:info@helse.ch
END:VEVENT
BEGIN:VEVENT
DTSTART;TZID=UTC:20220604T200000
DTEND;TZID=UTC:20220604T213000
DTSTAMP:20260424T140648
CREATED:20220411T124230Z
LAST-MODIFIED:20220506T061907Z
UID:10315-1654372800-1654378200@www.helse.ch
SUMMARY:Dejt
DESCRIPTION:SRB \n\nO PREDSTAVI\n  \nDEJT\n\n“DEJT” JE NOVA AUTORSKA AVANTURA SANDRE SILAĐEV\n04.JUN u 20h\nVolkshaus Zurich\,\nStauffacherstrasse 60\,\n8004 ZURICH\n \nSandra Silađev je u ulozi sredovečne gospođe i samohrane majke Olivere Živković koja je izašla na zakazani ljubavni sastanak. Međutim\, njen “dejt” se ne pojavljuje. Olivera\, dakle\, čeka. \nKoga i šta? Da li će saznati rezultate svojih zdravstvenih nalaza? Hoće li otkriti koji je smisao braka i zaklinjanja na večnu ljubav? Kako Olivera tretira majčinstvo i tumači položaj žene u današnjem društvu? Da li će shvatiti zašto je dužina haljine i visina štikle obrnuto proporcionalna jačini morala? Hoće li saznati da li su kafići prilagođeni potrebama osoba sa invaliditetom? Da li je svet sigurno mesto za tinejdžerke? Da li je bolje biti plaćena ili neplaćena domaćica? Kako samohrana majka u isto vreme i doji bebu i ide na posao? \nOlivera se oseća kao dama\, usedelica\, babadevojka i raspuštenica\, čak i kao udovica mada niko nije umro. Sluđena je kategorizacijama i čudnim odnosima između ljubavnika u 21 veku. Smatra da ne traži mnogo od života\, samo i jednostavno ono što svaki odrasli pojedinac želi za sebe – da pronađe svoju srodnu dušu. Ima li je za Oliveru na “ovom celom svetu”? Ili bar na internetu?\n \nNAPOMENA: Ova monodrama nije za maloletne osobe. Vulgarnost i prostačka retorika koriste se kao instrument kojim se prikazuju dupli standardi nametnuti pre svega ženama.\n \nSnimanje i slikanje tokom monodrame NIJE DOZVOLJENO.\n \nIgra i tekstopisac: Sandra Silađev\n  \n \n \n \nCena karte za CIRIH: 35chf i 40chf \n\n \n \nKUPI KARTU\n \n 
URL:https://www.helse.ch/event/dejt/
LOCATION:Volkshaus Zürich\, Stauffacherstrasse 60\, Zürich\, 8004\, Switzerland
CATEGORIES:Pozoriste,stand up
ATTACH;FMTTYPE=image/jpeg:https://www.helse.ch/wp-content/uploads/2022/04/dejt-1.jpg
ORGANIZER;CN="Helse Kulturverein":MAILTO:info@helse.ch
END:VEVENT
BEGIN:VEVENT
DTSTART;TZID=UTC:20220206T170000
DTEND;TZID=UTC:20220206T190000
DTSTAMP:20260424T140648
CREATED:20220117T112523Z
LAST-MODIFIED:20220128T150807Z
UID:9499-1644166800-1644174000@www.helse.ch
SUMMARY:Kruševac geto
DESCRIPTION:SRB \n\nO PREDSTAVI\n  \nKRUŠEVAC GETO\n\nFenomenalna stand up komedija sa dvojicom momaka spremni da pomere granice smeha i zabave\nZbog velikog interesovanja organizovali smo igranje predstave 06. februara u dva termina u Hotelu Kronenhof: od 17h i 19h (rasprodata)\nPopularni comedy dvojac koje na društvenim mrežama prati više od 700.000 ljudi od marta prošle godine oprobali su se i u uživo nastupima. Svi kojima je njihov humor privlačan biće oduševljeni sa ovom stand up predstavom. Život u braku Slobadana i Snežane i njihova dnevna rutina tema su ovog nastupa. Saznaćete kako su se upoznali zavolili\, kako je njihovoj deci na faktultetu\, prvi odlazak na letovanje itd..Sat ipo suživota sa Slobodan i Snežanom biće dovoljno da danima nosite osmeh na licu. \nIgraju: Nikola Trišić Triša i Nikola Milenković Čami čine humoristički duo Kruševac geto\nOrganizacija: Agencija za izvođačku umetnost SCENA ASM \nCena karte: 30 CHF \n \nKupi kartu za 17h\n*predstava od 19h je rasprodata \n 
URL:https://www.helse.ch/event/krusevac-geto/
LOCATION:Hotel Kronenhof\, Wehntalerstrasse 551\, Zürich\, 8046\, Switzerland
CATEGORIES:Pozoriste,stand up
ATTACH;FMTTYPE=image/jpeg:https://www.helse.ch/wp-content/uploads/2022/01/krusevac-geto-event.jpg
END:VEVENT
BEGIN:VEVENT
DTSTART;TZID=UTC:20211023T200000
DTEND;TZID=UTC:20211023T233000
DTSTAMP:20260424T140648
CREATED:20211008T094807Z
LAST-MODIFIED:20211008T102923Z
UID:8665-1635019200-1635031800@www.helse.ch
SUMMARY:Stand Up - S NOGU
DESCRIPTION:SRB \n\nSTAND UP \n“S NOGU” by Peđa Bajović\nPokretač regionalne mreže\, pravi pionir i nagrađivani veteran domaće stand-up komedije\, Pedja Bajović\, dolazi nam sa svojom prvom predstavom S NOGU*  (*sredstvo za protiv jugonostalgije i jugofobije)\, koja je od 2012. godine obišla Zemlju\, ne zemlju – nego planetu! Od Vankuvera do Tasmanije\, od Moskve do Madrida\, pa je došao je red i na Cirih. \nOvo je priča o nama danas. Nama\, koji smo nastavili svoje živote tu – na ovim “našim prostorima”\, u “regiji” ili “regionu”\, Zapadnom Balkanu\, u bivšoj Jugoslaviji… uglavnom – o nama sada i tu. \nJoš više pitanja i još manje odgovora dobit ćete u ovom druženju s Pedjom u trajanju od skoro dva sata. Uz sve to ćemo dodati malo politike\, i ono malo tzv. domaće ekonomije\, ponešto estrade i (nikada dovoljno!) sexa… i imate – S NOGU! \n \n \n \nCena ulaznice je 25 CHF \nZa studente i penzionere 15 CHF \n  \nKupi kartu\n  \n\n \n \n 
URL:https://www.helse.ch/event/stand-up-s-nogu/
LOCATION:ComedyHaus\, Albisriederstrasse 16\, Zurich\, Zurich\, 8003\, Switzerland
CATEGORIES:stand up
ATTACH;FMTTYPE=image/jpeg:https://www.helse.ch/wp-content/uploads/2021/10/s-nogu.jpg
END:VEVENT
BEGIN:VEVENT
DTSTART;VALUE=DATE:20200619
DTEND;VALUE=DATE:20200711
DTSTAMP:20260424T140648
CREATED:20200212T120508Z
LAST-MODIFIED:20200702T125512Z
UID:7744-1592524800-1594425599@www.helse.ch
SUMMARY:Balkan Standup Festival - postponed
DESCRIPTION:SRB \n\nO FESTIVALU \nBalkan Stand Up Festival 2020\nDOGAĐAJ JE ODLOŽEN ZA PERIOD JUN/JUL \nU subotu 21. marta od 20 časova u Cirihu se održava veliki “Balkan Stand Up Festival 2020”\, koji će okupiti neke od najpopularnijih stand up komičara iz regiona.\nUčesnici su popularni i priznati stand up komičari iz Srbije\, Hrvatske\, Bosne i Hercegovine\, koji će nam doneti dobro raspoloženje\, smeh\, pozitivne vibracije koje će ovo veče komedije učiniti nezaboravnim.\nUčesnici iz Srbije su Neša Bridžis\, Srđan Jovanović\, Srđan Olman\, Dušan Varničić. Ispred Hrvatske prisutnoj publici će se predstaviti Vlatko Štampar\, dok nam iz Bosne dolazi Marko Puljiž.\nNakon nastupa organizovano je zajedničko druženje uz muziku koju pušta DJ Gorki pa se dobra atmosfera nastavlja uz party do duboko u noć. \nKao i uvek sav dobitak i donacije idu u dobrotvorne svrhe. \n  \nKupi kartu/Ticket kaufen\n \n \n \nDE \n\nÜBER DAS FESTIVAL \nBalkan Stand Up Festival 2020\n21. März 2020 | 20:00 Uhr  \nAm 21. März 2020 um 20:00 Uhr findet in Zürich das grosse «Balkan Stand-Up-Festival 2020» statt\, welches Grössen aus der osteuropäischen Comedy-Szene zusammenbringt.\nDabei handelt es sich um die bekanntesten und angesehensten Stand-Up-Comedians aus Serbien\, Kroatien\, Bosnien und Herzegowina\, welche Lachkrämpfe garantieren und alle Comedy-Liebhaber*innen auf ihre Kosten kommen lassen.\nDie Vertreter der serbischen Comedy-Szene sind Neša Bridžis\, Srđan Jovanović\, Srđan Olman und Dušan Varničić. Aus Kroatien und Bosnien werden Vlatko Štampar und Marko Puljiž dem Publikum mit ihrer Stan-Up Show einheizen.\nDamit nicht nur die Lachmuskeln strapaziert werden\, tanzen wir nach der Veranstaltung gemeinsam zu «DJ Gorki» und seinen Beats bis tief in die Morgenstunden hinein. \nWie jedes Mal wird der Erlös für gute Zwecke gespendet.
URL:https://www.helse.ch/event/balkan-standup-festival/
LOCATION:Kirchgemeindehaus  Neumünster\, Seefeldstrasse 91\, Zürich\, Zürich\, 8008\, Switzerland
CATEGORIES:stand up
ATTACH;FMTTYPE=image/jpeg:https://www.helse.ch/wp-content/uploads/2020/02/fb-festival2.jpg
ORGANIZER;CN="Helse Kulturverein":MAILTO:info@helse.ch
END:VEVENT
BEGIN:VEVENT
DTSTART;TZID=UTC:20191027T190000
DTEND;TZID=UTC:20191027T190000
DTSTAMP:20260424T140648
CREATED:20190925T082255Z
LAST-MODIFIED:20190928T075446Z
UID:6123-1572202800-1572202800@www.helse.ch
SUMMARY:Dasko i Mladja
DESCRIPTION:SRB \nDAŠKO I MLAĐA STAND UP SHOW\nSve je počelo kada je Mlađa\, tezgareći kao Deda Mraz\, Dašku doneo paketić za Novu 1987. u firmi gde su radili Daškovi mama i tata… Baš smo skoro nešto računali i mislimo da se poznajemo negde oko 20 godina. Stari drugari sa pank scene. Svirali u bendovima\, pravili fanzine\, radio emisije\, ozbiljne časopise\, organizovali koncerte i žurke. Ponovo se našli na zajedničkom radio poslu u rano proleće 2011. i otad se skoro svako jutro gledamo i slušamo.  Pored radio pregalaštva\, prilično redovno se penjemo na bine i tamo se uživo šalimo\, pevamo i blamiramo. To nameravamo da radimo u Cirihu a imamo i radnu dozvolu! \nVidimo se u Drinx Baru 27. oktobra\, vrata se otvaraju u 17.30h a početak show-a u 19h!\nKarte se mogu kupiti na večernjoj kasi po ceni od 25 chf.\n \nMesta su ograničena! \n  \nDE \nAlles hat so angefangen\, dass Mlađa\, vollbepackt wie ein Samichlaus\, dem Daško ein Geschenkpaket zum Neujahr damals 1987 überreichte während eines Firmenanlasses\, wo seine Eltern damals gearbeitet hatten. Wir haben grad überlegt und es sind tatsächlich bereits über 20 Jahre\, dass wir uns kennen. Alte Freunde aus der Punk-Szene. Wir haben zusammen in verschiedenen Bands gespielt\, Radio-Sendungen und Nachrichtenmagazine produziert\, Konzerte und Parties organisiert und vieles mehr. Nach langer Zeit sind wir uns im Frühjahr 2011 endlich wieder über den Weg gelaufen anlässlich einer Radioproduktion und seither sehen und hören wir uns täglich! Nebst Radioproduktion machen wir auch weiterhin vieles zusammen: am liebsten auf öffentlichen Bühnen\, wo wir unsere besten Gags von uns geben\, singen oder uns anders blamieren. Genau das steht auch für unseren nächsten Auftritt in Zürich auf dem Plan! Und hey\, eine ordentliche Arbeitsbewilligung haben wir auch schon organisiert… \n  \nWir sehen uns in der Drinks Bar am 27. Oktober um 19 Uhr! \nTicket: 25 chf (am Eingang) \n 
URL:https://www.helse.ch/event/stand-up-dasko-i-mladja/
LOCATION:Drinx Bar\, Dufourstrasse 24\,\, Zürich\, 8008\, Switzerland
CATEGORIES:stand up
ATTACH;FMTTYPE=image/jpeg:https://www.helse.ch/wp-content/uploads/2019/09/FUS.jpg
ORGANIZER;CN="Helse Kulturverein":MAILTO:info@helse.ch
END:VEVENT
BEGIN:VEVENT
DTSTART;TZID=UTC:20190407T190000
DTEND;TZID=UTC:20190407T230000
DTSTAMP:20260424T140648
CREATED:20190219T085551Z
LAST-MODIFIED:20190301T101040Z
UID:5310-1554663600-1554678000@www.helse.ch
SUMMARY:Danko Rabrenović
DESCRIPTION:SRB \nDANKO RABRENOVIC – SOLO & ALLEIN\nMuzičar\, radiomoderator i autor Danko Rabrenovic kreće ponovo na turnuju. \nOvog put sa svojim nastupom “Solo & Alone” ex balkanizer eksperimentiše sa muzikom oslanjajući se na svoj talenat za improvizaciju i naravno gitaru. \nDanko na duhoviti način preispituje kulturne klišee i svakodnevne predrasude iz života jednog gastarbajtera. Njegov specifičan stil performansa uključuje muziku\, pripovedanje\, stand up komediju i kabaret. \nBiografija: \nDanko Rabrenović je rođen u Zagrebu\, odrastao u Beogradu a u Nemačku se doselio posle raspada Jugoslavije. U periodu od 2005-2016 moderator je kultnog show-a “Balkanizer” na WDR Funkhous Europa. Od januara 2017 postaje moderator WDR COSMO. \n  \nDE \nDANKO RABRENOVIC – SOLO & ALLEIN\nDer Musiker\, Radiomoderator und Autor Danko Rabrenovic geht wieder auf Tour. \nDiesmal allerdings „Solo & Allein“. Der ex. Balkanizer macht ein Experiment und verlässt sich dabei auf sein Improvisationstalent und seine Gitarre.\nRabrenovic will als Geschichtenerzähler und Performer eine neue Form finden\, die irgendwo zwischen Konzert\, Lesung\, Stand Up und Kabarett liegt. Die Form ändert sich\, seine Themen bleiben: Sprache\, Exil\, Identität\, Kulturschocks\, Heimatgefühle\, Nationalismus\, Integration\, Migrationshintergrund und ähnliche Krankheiten.\n  \nBio:\nDanko Rabrenovic wurde in Zagreb geboren\, wuchs in Belgrad auf und lebte als Kind mit seinen Eltern drei Jahre in Peking. Kurz nach Ausbruch des Jugoslawien- Krieges kam er nach Deutschland. Er moderierte von 2005 bis 2016 die Kultsendung „Balkanizer“ auf WDR Funkhaus Europa. Seit Januar 2017 moderiert er beim Nachfolgesender WDR COSMO. \n  \nKupi kartu – tICKET KAUFEN\n \n  \n \n \n  \n 
URL:https://www.helse.ch/event/danko-rabrenovic/
LOCATION:Plaza Club and Bar\, Badenerstrasse 109\, Zurich\, Zurich\, 8004\, Switzerland
CATEGORIES:stand up
ATTACH;FMTTYPE=image/jpeg:https://www.helse.ch/wp-content/uploads/2019/02/event-danko-1.jpg
ORGANIZER;CN="Helse Kulturverein":MAILTO:info@helse.ch
END:VEVENT
BEGIN:VEVENT
DTSTART;TZID=UTC:20171105T180000
DTEND;TZID=UTC:20171105T180000
DTSTAMP:20260424T140648
CREATED:20170918T103104Z
LAST-MODIFIED:20171101T111255Z
UID:2999-1509904800-1509904800@www.helse.ch
SUMMARY:Stand Up Srđan Jovanović
DESCRIPTION:Rezervišite vašu kartu na vremeDrinx Bar\, ZürichVašu ulaznicu možete rezervisati:\n– kontaktiranjem putem e-maila na adresu: info@drinxbar.ch\n \nBroj mesta je ograničen. \n\nSRĐAN JOVANOVIĆ – STAND UP SHOW\nDođite u Drinx Bar da se dobro zabavimo!\nGrupna terapija na duhovit način\, kroz bizarne priče i imitacije\, bez cenzure\, opisuje vreme i prostor u kome živimo\, probleme sa kojima se susrećemo i teme koje ne želimo da pominjemo. Kao materijal za predstavu\, Srđan koristi upravo proces  stvaranja samog stan up-a\, otkrivajući nam sve probleme sa kojima se susretao u svom pionirskom pokušaju. Ogoljena\, šarmantna\, smela i maštovita\, predstava nudi plejadu likova\, od političara\, poznanika\, kolega\, rodbine\, preko zdravstvenih radnika\, bankarskih službenika i živopisnih događaja\, koji se hronološki nižu u jednu celinu. \nVidimo se 05. novembra.
URL:https://www.helse.ch/event/stand-up-srdan-jovanovic/
LOCATION:Drinx Bar\, Dufourstrasse 24\,\, Zürich\, 8008\, Switzerland
CATEGORIES:stand up
ATTACH;FMTTYPE=image/jpeg:https://www.helse.ch/wp-content/uploads/2017/09/website-1.jpg
ORGANIZER;CN="Helse Kulturverein":MAILTO:info@helse.ch
END:VEVENT
END:VCALENDAR