BEGIN:VCALENDAR
VERSION:2.0
PRODID:-//HELSE - ECPv6.15.20//NONSGML v1.0//EN
CALSCALE:GREGORIAN
METHOD:PUBLISH
X-ORIGINAL-URL:https://www.helse.ch
X-WR-CALDESC:Events for HELSE
REFRESH-INTERVAL;VALUE=DURATION:PT1H
X-Robots-Tag:noindex
X-PUBLISHED-TTL:PT1H
BEGIN:VTIMEZONE
TZID:UTC
BEGIN:STANDARD
TZOFFSETFROM:+0000
TZOFFSETTO:+0000
TZNAME:UTC
DTSTART:20160101T000000
END:STANDARD
END:VTIMEZONE
BEGIN:VEVENT
DTSTART;TZID=UTC:20240201T200000
DTEND;TZID=UTC:20240201T220000
DTSTAMP:20260424T143633
CREATED:20231227T080928Z
LAST-MODIFIED:20240112T152211Z
UID:12402-1706817600-1706824800@www.helse.ch
SUMMARY:S.A.R.S.
DESCRIPTION:  \n\n\n\nSRB \n\nKONCERT   \nS.A.R.S. LIVE IN ZURICH – 01.02.2024! \nGrupa S.A.R.S. ponovo sa nama u Dynamo Clubu u Cirihu\n01.FEBRUAR 2024 u 20h\nDynamo Club \, Wasserwerkstrasse 21\, 8008 ZURICH     Velike vesti za sve ljubitelje dobrog ritma i oštrih tekstova – S.A.R.S. dolazi u Cirih! Obeležite 01. februar 2024. u vašim kalendarima jer klub Dynamo postaje epicentar nezaboravnog koncertnog iskustva. Nakon serije spektakularnih nastupa\, grupa S.A.R.S. vraća se u Švajcarsku da promoviše svoje najnovije hitove\, ali i da nas podseti na sve one pesme koje su obeležile poslednju deceniju regionalne muzičke scene. Dođite da zajedno proslavimo strast\, energiju i jedinstveni zvuk koji samo S.A.R.S. zna da pruži. Ulaznice su već u prodaji\, a s obzirom na to da se očekuje puna kuća\, savetujemo da požurite sa rezervacijom.     \n\nCena karte: 40 chf \n\n \n  KUPI KARTU            \n\n\n\n\n\n\n\n\n\n 
URL:https://www.helse.ch/event/sars-2024/
LOCATION:JUGENDKULTURHAUS DYNAMO\, WASSERWERKSTRASSE 21\, Zurich\, 8006
CATEGORIES:Koncert
ATTACH;FMTTYPE=image/webp:https://www.helse.ch/wp-content/uploads/2023/12/sars-2024.webp
ORGANIZER;CN="Helse Kulturverein":MAILTO:info@helse.ch
END:VEVENT
BEGIN:VEVENT
DTSTART;VALUE=DATE:20231216
DTEND;VALUE=DATE:20231218
DTSTAMP:20260424T143633
CREATED:20231106T145207Z
LAST-MODIFIED:20231106T155314Z
UID:12152-1702684800-1702857599@www.helse.ch
SUMMARY:Zeljko Vasic
DESCRIPTION:SRB \n\nO KONCERTU\n  \nŽELJKO VASIĆ – KONCERT\n„Dobrodošli u moju kafanu!“\nSa ponosom vam najavljujemo dva koncerta sa Željkom Vasićem koja će se održati u Cirihu 16. i 17. decembra 2023. godine\, pružajući vam savršenu priliku da završite godinu u ritmu dobrih vibracija i omiljenih melodija. \n  \n16. i 17. DECEMBAR 2023.\n \nKirchgemeindehaus Neumünster Zürich\,\nSeefeldstrasse 91\,\n8008 ZURICH\n \n\nCENA KARTE:\n50 chf\n*(studenti i penzioneri – 40 chf) \n\nKARTE – 16.decembar u 20h\nKARTE – 17.decembar u 19h\n\n \n \nMuzičko zadovoljstvo koje ne propuštate – pridružite nam se u Cirihu za nezaboravne večeri uz Željka Vasića. \n  \n\n  \nKako godina polako stiže svom kraju\, s pravom možemo reći da su note muzike one koje nas povezuju\, razveseljavaju i ukrašavaju svaki trenutak našeg života – tužan ili srećan. Muzika je ona tanka nit koja nas vodi kroz uspomene\, budi emocije i spaja nas sa vremenima kada smo bili mladi i bezbrižni. Ima li ičeg lepšeg nego kada nas melodija vrati u one dane? \nSa takvom čarolijom u srcu\, Željko Vasić\, jedan od najomiljenijih domaćih izvođača pop muzike\, dolazi da svojim glasom osvetla zimsku scenu Ciriha. Poznat po autentičnosti i nezaboravnim hitovima koji su oblikovali pop muzičku scenu\, Željko je izrastao iz muzičke porodice i nosi snažnu ljubav prema melodijama i rečima koje dopiru do srca. \nOd prvih nastupa sa 14 godina\, njegova karijera je bila niz uspeha\, a pesme poput ‘Žena kao ti’\, ‘Željo moja jedina’ i ‘Pratiš me u stopu’ učinile su ga zvezdom čija se svetlost ne gasi. Njegova doslednost prepoznatljivom stilu i dubokim emocijama obećava koncerte na kojima će se publiku podsetiti na melodije koje su\, pogotovo u ovim izazovnim vremenima\, svima tako potrebne. \nPripremite se da zajedno proslavimo kraj još jedne godine\, prepuni nade i uz sjajne tonove Željka Vasića koji će\, bez sumnje\, svima nama doneti osmeh na lice. Ne propustite priliku da budete deo ovih magičnih večeri. \n 
URL:https://www.helse.ch/event/zeljko-vasic/
LOCATION:Kirchgemeindehaus  Neumünster\, Seefeldstrasse 91\, Zürich\, Zürich\, 8008\, Switzerland
CATEGORIES:Koncert
ATTACH;FMTTYPE=image/webp:https://www.helse.ch/wp-content/uploads/2023/11/vasic.webp
ORGANIZER;CN="Helse Kulturverein":MAILTO:info@helse.ch
END:VEVENT
BEGIN:VEVENT
DTSTART;TZID=UTC:20230402T190000
DTEND;TZID=UTC:20230402T210000
DTSTAMP:20260424T143634
CREATED:20230315T170020Z
LAST-MODIFIED:20230315T172724Z
UID:11425-1680462000-1680469200@www.helse.ch
SUMMARY:Marcelo
DESCRIPTION:SRB \n\nO KONCERTU\n  \nMARCELO U CIRIHU\n02.APRIL u 19h\nWERK 21 u DYNAMO \nJUGENDKULTURHAUS DYNAMO\nWASSERWERKSTRASSE 21\n8006 ZURICH \n(VRATA SE OTVARAJU U 18h)\n  \nMarko Šelić Marčelo\, jedan od najuticajnijih autora Srbije i ex-Yu regiona\, predstaviće nam svoj književni i muzički rad kroz razgovor i koncert u nedelju\, 02. aprila 2023. godine\, u 19h u Dynamo Werk 21 (Cirih). \nRame uz rame sa svojim najbližim saradnicima Nevenom Glibetić Nensi (vokal)\, Radetom Sklopićem Raidom (dj)\, Filipom Krumesom (violina) i Aleksandrom Jovanovićem Šljukom (vokal\, klavijature)\, Marčelo će nas provesti kroz aktuelni konceptualni album „Nojeva varka”\, ali i kroz raniji opus. Razgovaraćemo o temama njegovih romana i novinskih kolumni\, društvenom aktivizmu i angažmanu u pozorištu\, nakon čega sledi sat i po sinergije muzike i stihova. \n  \nNEMOJTE PROPUSTITI OVAKAV DOGAĐAJ I PRILIKU DA UŽIVATE U FENOMENALNOJ MUZICI!!! \n \n \n \nCena karte: 30 chf  i (35 chf na večernjoj kasi) \n \n \n \nKUPI KARTU\n  \n 
URL:https://www.helse.ch/event/marcelo/
LOCATION:JUGENDKULTURHAUS DYNAMO\, WASSERWERKSTRASSE 21\, Zurich\, 8006
CATEGORIES:Koncert
ATTACH;FMTTYPE=image/webp:https://www.helse.ch/wp-content/uploads/2023/03/marcelo.webp
ORGANIZER;CN="Helse Kulturverein":MAILTO:info@helse.ch
END:VEVENT
BEGIN:VEVENT
DTSTART;TZID=UTC:20220625T193000
DTEND;TZID=UTC:20220625T233000
DTSTAMP:20260424T143634
CREATED:20220502T061556Z
LAST-MODIFIED:20220502T065424Z
UID:10411-1656185400-1656199800@www.helse.ch
SUMMARY:Bajaga i instruktori
DESCRIPTION:SRB \n\nO KONCERTU\n  \nBAJAGA I INSTRUKTORI\nSUBOTA\, 25.JUN – 20.30h\n \nPiazza Bleiche Wald\,\n8636 Wald (ZH)\n \nVrata se otvaraju u 19.30h\nPocetak koncerta u 20.30h \n \nBajaga i Instruktori su među najpoznatijim rok bendovima sa prostora bivše Jugoslavije. Njihova muzika je kulturno dobro u Srbiji i bend je i danas posle toliko duge i uspešne karijere i dalje jednako popularan i tražen. Njihovi inspirativni nastupi pred desetinama hiljada fanova su legendarni i nezaboravni. Dođite da provedemo zajdeno ovo veče uz poznate hitove fenomenalnog Bajage i njegovih instruktora.\n  \n \nCena karte – parter: CHF 41.20\nCena karte – Kategorija 2: CHF 51.40\nCena karte – Kategorija 1: CHF 61.60 \n\n  \nPre koncerta možete večerati u Bleichibeiz. “Special –Session-Menu” (3 Gang meni) po ceni od CHF 50\, to možete učiniti već od 18h.\nRezervacije na broj: 055 256 70 20\n \n  \nKUPI KARTU \n \n \n\n \n \n \n \n \nDE \n\nKONZERT\n  \nBAJAGA I INSTRUKTORI\nSAMSTAG\, 25.JUNI – 20.30UHR\n \nPiazza Bleiche Wald\,\n8636 Wald (ZH)\n \nTüröffnung: 19:30 Uhr\nBeginn: 20:30 Uhr \n \nBajaga i Instruktori gehören zu den bekanntesten Rockbands aus dem ehemaligen Jugoslawien. Ihre Musik ist Kulturgut in Serbien und die Band ist noch heute äusserst populär. Ihre begeisternden Auftritte vor zehntausenden Fans sind legendär. Einer der vielen Höhepunkten an den diesjährigen Bleiche Sessions. \nKombi-Ticket inkl. Nachtessen in der Bleichibeiz ab 18:00 Uhr (3 Gang Menu für CHF 50.-) in der stimmungsvollen Bleichi-Beiz.\n \nTelefon für Reservierungen: 055 256 70 20\n \n \nTickets – Stehplatz: CHF 41.20\nTickets – Kategorie 2: CHF 51.40\nTickets – Kategorie 1: CHF 61.60 \n\n  \n  \nTICKETS \n \n 
URL:https://www.helse.ch/event/bajaga-i-instruktori/
LOCATION:BLEICHE WALD\, Piazza Bleiche Wald\, Wald\, 8636\, Switzerland
CATEGORIES:Koncert
ATTACH;FMTTYPE=image/jpeg:https://www.helse.ch/wp-content/uploads/2022/05/bajaga.jpg
ORGANIZER;CN="Helse Kulturverein":MAILTO:info@helse.ch
END:VEVENT
BEGIN:VEVENT
DTSTART;VALUE=DATE:20220304
DTEND;VALUE=DATE:20220306
DTSTAMP:20260424T143634
CREATED:20220202T163213Z
LAST-MODIFIED:20220217T090100Z
UID:9526-1646352000-1646524799@www.helse.ch
SUMMARY:Naše veče
DESCRIPTION:SRB \n\nO PREDSTAVI\n  \nNAŠE VEČE\nMUZIČKO VEČE UZ STIHOVE JESENJINA\, SIMONOVA\, BODLERA\, MILANA RAKIĆA I NOTE KOJE PRATE BOSILJČIČEVE INTERPRETACIJE POEZIJE VRHUNSKIH UMETNIKA\n04.MART u 20h – BEČ \nAnkersaal Kulturhaus Brotfabrik\,\nAbsberggasse 27/ Steige 3\,\nWIEN \n05.MART u 20h – CIRIH\nSeefeld Neumünster Kirchengemeindehaus\,\nSeefeldstrasse 91\,\n8008 ZURICH\n \nUmetničko veče u Beču i Cirhu\, doneće uzbuđenje dramske predstave i vrhunski muzički događaj\, poseban i retko viđan na našim prostorima. Ivan Bosiljčić sa velikim uspehom predstavlja svoje autorske projekte ljubiteljima poezije i muzike. Ove umetničke večeri donose uzbuđenje dramske predstave i vrhunski muzički događaj\, poseban i retko viđan na našim prostorima. Publika je burnim emotivnim reakcijama dočekivala nastupe kako u velikim koncertnim dvoranama\,tako i na teatarskim scenama Beograda\,Novog Sada\, Skoplja\,Podgorice\, kao i u bezmalo svim gradovima Srbije i regiona. Muzičke večeri pozdravljala je publika na turnejama u Austriji\,Švajcarskoj\,Norveškoj\,Švedskoj\,Kanadi i na Islandu.\nOve pozorišne jeseni Ivan Bosiljčić predstavlja svoj novi program pod nazivom NAŠE VEČE. \nVokal: Ivan Bosiljčić\nMuzičari: Zoran Stojanović i Goran Kovačić \n \nCena karte za CIRIH: 35 chf\nCena karte za BEČ: 25 eur (B Kat)\, 30 eur (A Kat)\n \n \n \nKARTE-ZURICH \n  \nKARTE – BEČ:\nMTEL Shop Lugner City\nGablenzg. 5-13/UG/TOP 13\, 1150 Wien\n0667 7722557\n______________________________\nCafe Restaurant Calypso\nBrunnerfeldstraße 65\, 2380 Perchtoldsdorf\n01 8652481\n________________________________\nRestoran Semendrija\nBillroth-Gasse 1\, 2231 Strasshof an der Nordbahn\n+436642559100\n_______________________________\nMTEL Shop Wien 10\nTriester Str. 7/5\, 1100 Wien\n01 4105008 \n  \n\n  \nDE \n\nÜBER THEATERSHOW\n  \nUNSER ABEND\nMUSIKABEND MIT VERSEN BERÜHMTER DICHTER UND ANMERKUNGEN ZU BOSILJČIĆS INTERPRETATIONEN DER POESIE DURCH HOCHWERTIGE KÜNSTLER\n04.März um 20Uhr – WIEN\nAnkersaal Kulturhaus Brotfabrik\,\nAbsberggasse 27/ Steige 3\,\nWIEN \n05.März um 20Uhr – ZURICH\nSeefeld Neumünster Kirchengemeindehaus\,\nSeefeldstrasse 91\,\n8008 ZURICH\n \nIvan Bosiljčić gehört schon seit über 10 Jahre zu einem wesentlichen Bestandteil der serbischen Kulturszene. Dabei kann er auf eine vielseitige und erfolgreiche Karriere in TV\, Film und Theater zurückblicken. Darüber sticht vor allem Bosiljčićs besondere persönliche Note\, ein fabelhaftes Gespür für Poesie und Musik\, in seinen Werken heraus. Sein neuestes Theaterstück wird und verspricht dies ebenso zu tun. Sie können sich gewiss auf einen vielseitigen und inspirierenden Abend freuen\, der gekonnt klassisches Theater mit imposanter Musik verbindet. Dieses Stück durfte schon in zahlreichen Konzertsälen und Theaterbühnen aufgeführt werden. Dazu zählen auf der Liste nicht nur Städte wie Belgrad\, Novi Sad\, Skopje\, sondern auch Orte\, die über die Balkangrenze hinausreichen\, wie Österreich\, Norwegen\, Schweden\, Kanada und Island. Bislang von Seiten Publikums höchst gefeiert mit starken emotionalen Reaktionen kommt diese Herbstsaison «Unser Abend» auch endlich zu uns in die Schweiz. \nSänger: Ivan Bosiljčić\nMusiker : Zoran Stojanović i Goran Kovačić \nTickets – Zurich: 35 CHF\nTickets – Wien: 25€ i 30€  \n \nTICKETS-ZURICH \n  \nTICKETS – WIEN:\nMTEL Shop Lugner City\nGablenzg. 5-13/UG/TOP 13\, 1150 Wien\n0667 7722557\n______________________________\nCafe Restaurant Calypso\nBrunnerfeldstraße 65\, 2380 Perchtoldsdorf\n01 8652481\n________________________________\nRestaurant Semendrija\nBillroth-Gasse 1\, 2231 Strasshof an der Nordbahn\n+436642559100\n_______________________________\nMTEL Shop Wien 10\nTriester Str. 7/5\, 1100 Wien\n01 4105008 \n \n \n \n \n 
URL:https://www.helse.ch/event/nase-vece/
LOCATION:Kirchgemeindehaus  Neumünster\, Seefeldstrasse 91\, Zürich\, Zürich\, 8008\, Switzerland
CATEGORIES:Koncert
ATTACH;FMTTYPE=image/jpeg:https://www.helse.ch/wp-content/uploads/2022/02/nase-vece.jpg
ORGANIZER;CN="Helse Kulturverein":MAILTO:info@helse.ch
END:VEVENT
BEGIN:VEVENT
DTSTART;TZID=UTC:20190927T223000
DTEND;TZID=UTC:20190927T223000
DTSTAMP:20260424T143634
CREATED:20190911T101629Z
LAST-MODIFIED:20190911T102108Z
UID:6068-1569623400-1569623400@www.helse.ch
SUMMARY:S.A.R.S
DESCRIPTION:Koncert grupe S.A.R.S. \n27. septembar u 22.30h\nVeć godinama su koncerti benda S.A.R.S. sinonim za dobar provod.\nNe mora mnogo da se priča\, Cirih voli SARS\, a i SARS voli da nastupa u Cirihu.\nProverite zašto ako već niste ili se podsetite nekih od najboljih provoda na kojima ste bili prethodnih godina 🙂 \nPetak 27. septembar Elite Club Zurich i koncet SARS-a su dovoljan razlog da se družimo i da zajednom pevamo pesme koje su obeležile savremenu rok muziku u regionu.\nVrata Elite kluba se otvaraju 22:30h. \nKarte se mogu kupiti na večernjoj kasi po ceni od 35chf.
URL:https://www.helse.ch/event/s-a-r-s-2/
LOCATION:Elite Club\, Hohlstrasse 452\, Zürich\, 8048\, Switzerland
CATEGORIES:Koncert
ATTACH;FMTTYPE=image/jpeg:https://www.helse.ch/wp-content/uploads/2019/09/SARS-2019-1.jpg
ORGANIZER;CN="Helse Kulturverein":MAILTO:info@helse.ch
END:VEVENT
BEGIN:VEVENT
DTSTART;TZID=UTC:20190414T190000
DTEND;TZID=UTC:20190414T190000
DTSTAMP:20260424T143634
CREATED:20190222T142104Z
LAST-MODIFIED:20190408T120142Z
UID:5324-1555268400-1555268400@www.helse.ch
SUMMARY:Marko Louis
DESCRIPTION:SRB\nMarko Louis\nODLOŽENO!\nNASTUP JE POMEREN – NOVI DATUM SLEDI USKORO\n14.APRIL – CLUB PLAZA\n  \nSve popularniji “Balkan – Soul” autor Marko Louis održaće svoj prvi koncert u Cirihu\, 14. Aprila 2019. godine u kultnom klubu PLAZA sa početkom od 19h.\nZvuk Marka Louis-a se sastoji od kombinacije modernih i tradicionalnih zvukova. Zvuk trube i duvačkih instrumenata je njegov pečat i nastup ovog kantautora nikoga ne ostavlja ravnodušnim.\n \nPosle uspešnih albuma “Shine On Me” i “Beskraj”\, Marko Louis u oktobru 2018. izdaje svoj novi album “EURIDIKA”. Novi album sadrži 12 pesama među kojima su tri dueta. Publika je na turneji vec imala priliku da čuje dve nove pesme koje su se našle na novom albumu- to su naslovna pesma “EURIDIKA” i singl “KAD JE NOĆ”. \nVidimo se 14.04. u klubu PLAZA!\n \nCena karte: \nPredprodaja: 35 CHF\nVečernja kasa: 40 CHF \n  \nDE\nMarko Louis\nVERSCHOBEN!\nDIE SHOW MUSS VERSCHOBEN WERDEN – ERSATZDATUM FOLGT IN KÜRZE\n14.APRIL – CLUB PLAZA\nSchweizer Premiere: Marko Louis bringt den immer beliebteren ‘Balkan – Soul’ zum ersten Mal in unser Alpenland und zwar am 14. April\, ab 19 Uhr\, im kultigen PLAZA Club!\n  \nDer Sound von Marko Louis überzeugt durch einen Mix moderner und traditioneller Sound-Komponenten.  Die Klänge von Trompeten und verschiedenen Blasinstrumenten reissen das Publikum regelmässig mit und sorgen für eine phänomenale Konzertstimmung! \n  \nNach seinen sehr erfolgreichen Alben «Shine On Me» und «Beskraj»\, hat Marko Louis sein nächstes Knaller-Album «EURIDIKA» letzten Oktober veröffentlich. Das neue Album umfasst 12 Songs\, darunter auch drei Duette. Die neuen Songs haben schon zahlreiche Konzerte-Gäste begeistert. Derzeitige Favoriten dürften die Songs «EURIDIKA» und «KAD JE NOĆ» sein. \n  \nWir freuen uns auf diesen genialen Musiker und hoffen ihr seid dabei! \nWir sehen uns im PLAZA am 14. April! \n  \nEintrittspreise: \nVorverkauf: 35 CHF\nAbendkasse: 40 CHF \n  \n  \nKupi kartu – tICKET KAUFEN\n  \n \n \n 
URL:https://www.helse.ch/event/marko-luis/
LOCATION:Plaza Club and Bar\, Badenerstrasse 109\, Zurich\, Zurich\, 8004\, Switzerland
CATEGORIES:Koncert
ATTACH;FMTTYPE=image/jpeg:https://www.helse.ch/wp-content/uploads/2019/02/VERSCHOBEN-.jpg
ORGANIZER;CN="Helse Kulturverein":MAILTO:info@helse.ch
END:VEVENT
BEGIN:VEVENT
DTSTART;TZID=UTC:20190301T200000
DTEND;TZID=UTC:20190301T230000
DTSTAMP:20260424T143634
CREATED:20190207T111324Z
LAST-MODIFIED:20190214T054250Z
UID:5234-1551470400-1551481200@www.helse.ch
SUMMARY:Emir Kusturica & The No Smoking Orchestra
DESCRIPTION:ORGANIZED BY FORSEVENT\nSRB\n01.03.2019. | Emir Kusturica & Non Smoking Orchestra | Volkhaus\, Zürich\nOvaj put se Emir Kusturica & The No Smoking Orchestra vraćaju sa još više energije! \nU svom novom programu “Diplomatic Corps” uvlače nas u posebnu vrstu Rok muzike sa istoka. Mešavina Gitane muzike\, folklora Balkana\, Punk Roka i sve što nas tera na ples. \nO bendu: \nNo Smoking Orchestra se prvi put  pojavio 80-ih godina kao umetnički vid protesta protiv establišmenta. Vođen od strane harizmatičnog maga filmske umetnosti Emira Kusturice bend je odvojen od bilo koje dogme šou biznisa i važan su fenomen antiglobalističkog pokreta i jedinstveni paradoks okoline iz koje dolaze. \nEmir Kusturica and the No Smoking Orchestra  – Eksplozivni nitroglicerin u muzičkom obliku uz koji ne možete ostati  mirni. \n  \nDE\n01.03.2019. | Emir Kusturica & Non Smoking Orchestra | Volkhaus\, Zürich\nDie vom berühmten Regisseur Emir Kusturica angeführte Gruppe hatte ihren ersten Auftritt im Geist des Protests in den 1980ern. Dissoziiert von jeglichem Dogma des Showbiz stellen Emir Kusturica & The No Smoking Orchestra ein wichtiges Phänomen der Globalisierungskritik und ein einzigartiges Paradox zu dem Milieu aus dem sie stammen dar. Die Gruppe aus Belgrad\, geleitet vom Leadgitarrist und jetzgen Sänger Emir Kusturica hat sich als führende Balkanband etabliert\, die ausserhalb ihres Heimatlandes wohlverdiente internationale Anerkennung erhält.  \nDiesmal kehren Emir Kusturica & The No Smoking Orchestra mit noch mehr Energie zurück! In ihrem neuen Programm “Diplomatic Corps” ziehen sie uns in eine Art Rock-Western aus dem Osten. Eine Mischung aus Zigeunermusik [that term is only PC in Switzerland\, can’t be used for releases in Germany and Austria]\, Balkanfolklore\, Punk Rock und allem\, was einen zum Tanzen bringt. “Ein Klang wie explosives Nitroglycerin”\, der es unmöglich macht\, auf den Stühlen zu bleiben.\n \n  \nKupi kartu – tICKET KAUFEN\n \n 
URL:https://www.helse.ch/event/emir-kusturica-the-no-smoking-orchestra/
LOCATION:Volkshaus Zürich\, Stauffacherstrasse 60\, Zürich\, 8004\, Switzerland
CATEGORIES:Koncert
ATTACH;FMTTYPE=image/jpeg:https://www.helse.ch/wp-content/uploads/2019/02/event.jpg
ORGANIZER;CN="ForsEvent":MAILTO:lina.petraviciute@gmail.com
END:VEVENT
BEGIN:VEVENT
DTSTART;TZID=UTC:20180928T223000
DTEND;TZID=UTC:20180928T223000
DTSTAMP:20260424T143634
CREATED:20180906T105307Z
LAST-MODIFIED:20180914T071340Z
UID:4384-1538173800-1538173800@www.helse.ch
SUMMARY:S.A.R.S
DESCRIPTION:S.A.R.S.\nVelika žurka u klubu Elit sa grupom S.A.R.S.\nSveže amputirana ruka Satrijanija (skraćeno S.A.R.S.) muzički je sastav iz Resnika. \nNjihova muzika je svojevrsna kombinacija pop\, rock\, regge\, hip-hop i bluz muzike sa elementima tradicionalnog srpskog folka. \n  \n\n\n \n  \nVeć godinama su koncerti benda S.A.R.S. sinonim za dobar provod.\nNe mora mnogo da se priča\, Cirih voli SARS\, a i SARS voli da nastupa u Cirihu.\nProverite zašto ako već niste ili se podsetite nekih od najboljih provoda na kojima ste bili prethodnih godina 🙂 \nPetak 28. septembar Elite Club Zurich i koncet SARS-a su dovoljan razlog da se družimo i da zajednom pevamo pesme koje su obeležile savremenu rok muziku u regionu.\nVrata Elite kluba se otvaraju 22:30h. \nKarte se mogu kupiti na večernjoj kasi po ceni od 35chf.
URL:https://www.helse.ch/event/s-a-r-s/
LOCATION:Elite Club\, Hohlstrasse 452\, Zürich\, 8048\, Switzerland
CATEGORIES:Koncert
ATTACH;FMTTYPE=image/jpeg:https://www.helse.ch/wp-content/uploads/2018/09/sars.jpg
ORGANIZER;CN="Helse Kulturverein":MAILTO:info@helse.ch
END:VEVENT
BEGIN:VEVENT
DTSTART;TZID=UTC:20170922T230000
DTEND;TZID=UTC:20170922T230000
DTSTAMP:20260424T143634
CREATED:20170912T052627Z
LAST-MODIFIED:20170913T123541Z
UID:2927-1506121200-1506121200@www.helse.ch
SUMMARY:Koncert grupe SARS
DESCRIPTION:KUPI KARTU \nS.A.R.S.\nVelika žurka u klubu Elit sa grupom S.A.R.S.\nSveže amputirana ruka Satrijanija (skraćeno S.A.R.S.) muzički je sastav iz Resnika. Njihova muzika je svojevrsna kombinacija pop\, rock\, regge\, hip-hop i bluz muzike sa elementima tradicionalnog srpskog folka. \n  \n\n\n \n  \nVeć godinama su koncerti benda S.A.R.S. sinonim za dobar provod.\nNe mora mnogo da se priča\, Cirih voli SARS\, a i SARS voli da nastupa u Cirihu.\nProverite zašto ako već niste ili se podsetite nekih od najboljih provoda na kojima ste bili prethodnih godina 🙂 \nPetak 22. septembar Elite Club Zurich i koncet SARS-a su dovoljan razlog da se družimo i da zajednom pevamo pesme koje su obeležile savremenu rok muziku u regionu.
URL:https://www.helse.ch/event/koncert-grupe-sars/
LOCATION:Elite Club\, Hohlstrasse 452\, Zürich\, 8048\, Switzerland
CATEGORIES:Koncert
ATTACH;FMTTYPE=image/jpeg:https://www.helse.ch/wp-content/uploads/2017/09/website.jpg
ORGANIZER;CN="Helse Kulturverein":MAILTO:info@helse.ch
END:VEVENT
END:VCALENDAR