BEGIN:VCALENDAR
VERSION:2.0
PRODID:-//HELSE - ECPv6.15.20//NONSGML v1.0//EN
CALSCALE:GREGORIAN
METHOD:PUBLISH
X-ORIGINAL-URL:https://www.helse.ch
X-WR-CALDESC:Events for HELSE
REFRESH-INTERVAL;VALUE=DURATION:PT1H
X-Robots-Tag:noindex
X-PUBLISHED-TTL:PT1H
BEGIN:VTIMEZONE
TZID:Europe/Zurich
BEGIN:DAYLIGHT
TZOFFSETFROM:+0100
TZOFFSETTO:+0200
TZNAME:CEST
DTSTART:20250330T010000
END:DAYLIGHT
BEGIN:STANDARD
TZOFFSETFROM:+0200
TZOFFSETTO:+0100
TZNAME:CET
DTSTART:20251026T010000
END:STANDARD
BEGIN:DAYLIGHT
TZOFFSETFROM:+0100
TZOFFSETTO:+0200
TZNAME:CEST
DTSTART:20260329T010000
END:DAYLIGHT
BEGIN:STANDARD
TZOFFSETFROM:+0200
TZOFFSETTO:+0100
TZNAME:CET
DTSTART:20261025T010000
END:STANDARD
BEGIN:DAYLIGHT
TZOFFSETFROM:+0100
TZOFFSETTO:+0200
TZNAME:CEST
DTSTART:20270328T010000
END:DAYLIGHT
BEGIN:STANDARD
TZOFFSETFROM:+0200
TZOFFSETTO:+0100
TZNAME:CET
DTSTART:20271031T010000
END:STANDARD
END:VTIMEZONE
BEGIN:VEVENT
DTSTART;TZID=Europe/Zurich:20260314T200000
DTEND;TZID=Europe/Zurich:20260314T213000
DTSTAMP:20260424T153308
CREATED:20260209T081925Z
LAST-MODIFIED:20260306T125946Z
UID:14226-1773518400-1773523800@www.helse.ch
SUMMARY:Privatna proslava
DESCRIPTION:SRB \n\nO PREDSTAVI \nPRIVATNA PROSLAVA\nSubota\, 14. mart – 20h\n\n\nCrkva Glaubten\nRiedenhaldenstrasse 3\n8046 Zürich\nCENE KARATA 14. MART40chfHelse članovi – 35 chfStudenti i penzioneri – 30 chfKARTERomantična komedija \nPredstava Privatna proslava obeležila je svoje 50. izvođenje u sredu\, 4. februara u Bitef teatru. Ova romantična komedija\, koja je osvojila pozorišnu publiku\, pored uspešnog scenskog života uskoro dobija i filmsku adaptaciju. \nRadnja predstave odvija se tokom jedne misteriozne večeri u otmenom restoranu\, gde se po pozivu zajedničkih prijatelja – bračnog para advokata – okuplja šestoro ljudi. Gosti ne znaju povod okupljanja\, niti ko su ostale zvanice. Tokom večeri otkriva se da su oni zapravo bivši supružnici koje je upravo taj advokatski par nekada razveo. Njihov susret prerasta u pokušaj da se poprave narušeni odnosi. \nPredstava govori o ljudima srednjih godina koji su materijalno obezbeđeni i naizgled imaju sve\, ali i dalje nisu srećni. Muče ih ljubomora\, prevara\, sujeta i strah od iskrene komunikacije\, jer ona nosi rizik od povređivanja\, odbacivanja i društvene izolacije. Privatna proslava je priča o razvodu\, ali pre svega o apsurdnom haosu koji smo u stanju da napravimo od sopstvenih odnosa. \nIGRAJU: Vladimir Aleksić\, Milena Vasić\, Uroš Jakovljević\, Tijana Marković\, Jelisaveta Orašanin i Nikola Rakočević \nREŽIJA: Vladimir Aleksić \nPredstava se izvodi na srpskom jeziku.\nPreporučuje se odrasloj publici. \nU skladu sa pravilima prostora\, unošenje hrane i pića u Glaubten crkvu nije dozvoljeno. Prodaja hrane i pića tokom događaja nije predviđena.
URL:https://www.helse.ch/event/privatna-proslava/
LOCATION:Kirche Glaubten\, Riedenhaldenstrasse 1\, Zürich\, Zürich\, 8046\, Switzerland
ATTACH;FMTTYPE=image/webp:https://www.helse.ch/wp-content/uploads/2026/02/privatna-proslava-2.webp
ORGANIZER;CN="Helse Kulturverein":MAILTO:info@helse.ch
END:VEVENT
END:VCALENDAR