BEGIN:VCALENDAR
VERSION:2.0
PRODID:-//HELSE - ECPv6.15.20//NONSGML v1.0//EN
CALSCALE:GREGORIAN
METHOD:PUBLISH
X-ORIGINAL-URL:https://www.helse.ch
X-WR-CALDESC:Events for HELSE
REFRESH-INTERVAL;VALUE=DURATION:PT1H
X-Robots-Tag:noindex
X-PUBLISHED-TTL:PT1H
BEGIN:VTIMEZONE
TZID:Europe/Zurich
BEGIN:DAYLIGHT
TZOFFSETFROM:+0100
TZOFFSETTO:+0200
TZNAME:CEST
DTSTART:20250330T010000
END:DAYLIGHT
BEGIN:STANDARD
TZOFFSETFROM:+0200
TZOFFSETTO:+0100
TZNAME:CET
DTSTART:20251026T010000
END:STANDARD
BEGIN:DAYLIGHT
TZOFFSETFROM:+0100
TZOFFSETTO:+0200
TZNAME:CEST
DTSTART:20260329T010000
END:DAYLIGHT
BEGIN:STANDARD
TZOFFSETFROM:+0200
TZOFFSETTO:+0100
TZNAME:CET
DTSTART:20261025T010000
END:STANDARD
BEGIN:DAYLIGHT
TZOFFSETFROM:+0100
TZOFFSETTO:+0200
TZNAME:CEST
DTSTART:20270328T010000
END:DAYLIGHT
BEGIN:STANDARD
TZOFFSETFROM:+0200
TZOFFSETTO:+0100
TZNAME:CET
DTSTART:20271031T010000
END:STANDARD
END:VTIMEZONE
BEGIN:VEVENT
DTSTART;TZID=Europe/Zurich:20260129T203000
DTEND;TZID=Europe/Zurich:20260129T223000
DTSTAMP:20260424T165102
CREATED:20251112T190923Z
LAST-MODIFIED:20251112T195949Z
UID:13888-1769718600-1769725800@www.helse.ch
SUMMARY:sars26
DESCRIPTION:SRB \n\nO KONCERTU \nS.A.R.S. 20\nVeliki koncert grupe SARS u Cirihu povodom 20 godina rada i postojanja\nČETVRTAK 29. JANUAR\nDynamo Saal\nWasserwerkstrasse 21\n8004 Zürich\n\n———————————————————– \nCENA KARTE: \n50 chf \nSTUDENTI I PENZIONERI: \n35 chf \nDECA od 12-18 god u pratnji roditelja: \nKARTE GRATIS \n——————————————————— \n\n  \n    \n      KARTE\n    \n  \n\nPočetak koncerta u 20:30 h\, vrata se otvaraju u 19:30 h. \nBroj mesta je ograničen – obezbedite svoju ulaznicu na vreme! \n\nS.A.R.S. – Live u Cirihu! \n\n\nU novu 2026. Godinu ulazimo u velikom stilu.\nS.A.R.S. obeležava dve decenije stvaranja velikim koncertom u Cirihu !!! Omiljeni gosti Ciriha se vraćaju da održe još jedan u nizu legendarnih koncerata. 20 godina benda S.A.R.S. obeležene su pesama uz koje su stasavale čitave generacije: “Budjav lebac”\, “Lutka”\, “Perspektiva”\, “Klinka”\, “Ratujemo ti i ja” i mnoge druge koje publika obožava širom regiona i šire. Od alternativnih scena u Beogradu do najvećih festivalskih bina Balkana\, S.A.R.S je ostao veran prepoznatljivom zvuku – mešavini pop-roka\, reggea\, funka i hip-hopa uz energiju koja podiže publiku na noge.
URL:https://www.helse.ch/event/sars26/
LOCATION:JUGENDKULTURHAUS DYNAMO\, WASSERWERKSTRASSE 21\, Zurich\, 8006
ATTACH;FMTTYPE=image/webp:https://www.helse.ch/wp-content/uploads/2025/11/sars26.webp
ORGANIZER;CN="Helse Kulturverein":MAILTO:info@helse.ch
END:VEVENT
END:VCALENDAR