BEGIN:VCALENDAR
VERSION:2.0
PRODID:-//HELSE - ECPv6.15.20//NONSGML v1.0//EN
CALSCALE:GREGORIAN
METHOD:PUBLISH
X-WR-CALNAME:HELSE
X-ORIGINAL-URL:https://www.helse.ch
X-WR-CALDESC:Events for HELSE
REFRESH-INTERVAL;VALUE=DURATION:PT1H
X-Robots-Tag:noindex
X-PUBLISHED-TTL:PT1H
BEGIN:VTIMEZONE
TZID:Europe/Zurich
BEGIN:DAYLIGHT
TZOFFSETFROM:+0100
TZOFFSETTO:+0200
TZNAME:CEST
DTSTART:20240331T010000
END:DAYLIGHT
BEGIN:STANDARD
TZOFFSETFROM:+0200
TZOFFSETTO:+0100
TZNAME:CET
DTSTART:20241027T010000
END:STANDARD
BEGIN:DAYLIGHT
TZOFFSETFROM:+0100
TZOFFSETTO:+0200
TZNAME:CEST
DTSTART:20250330T010000
END:DAYLIGHT
BEGIN:STANDARD
TZOFFSETFROM:+0200
TZOFFSETTO:+0100
TZNAME:CET
DTSTART:20251026T010000
END:STANDARD
BEGIN:DAYLIGHT
TZOFFSETFROM:+0100
TZOFFSETTO:+0200
TZNAME:CEST
DTSTART:20260329T010000
END:DAYLIGHT
BEGIN:STANDARD
TZOFFSETFROM:+0200
TZOFFSETTO:+0100
TZNAME:CET
DTSTART:20261025T010000
END:STANDARD
END:VTIMEZONE
BEGIN:VEVENT
DTSTART;TZID=Europe/Zurich:20251108T203000
DTEND;TZID=Europe/Zurich:20251108T223000
DTSTAMP:20260424T205020
CREATED:20250905T140639Z
LAST-MODIFIED:20251010T143227Z
UID:13656-1762633800-1762641000@www.helse.ch
SUMMARY:Zeljko Vasic 25
DESCRIPTION:SRB \n\nO KONCERTU \nŽELJKO VASIĆ – “25ica acoustic”\nVeliki koncert Željka Vasića u Cirihu  pod nazivom „25ica“ –  Јedno veče\, јedna priča\, 25 godina muzike.\n08. NOVEMBAR u 20.30h\nVolkshaus Zürich\nStauffacherstrasse 60\n8004 Zürich\n——————————- \nCENA KARTE: \n35 – 65 chf \n——————————- \n\n  \n    \n      KARTE - CIRIH\n    \n  \n\n“25ica” u muzičkom smislu predstavlja neku vrstu rekapitulacije moje dvadesetpetogodišnje karijere – kaže Željko.\nŽeleo sam da određenim pesmama\, koje su mi veoma drage\, dam novo ruho i još više ih približim svom senzibilitetu i svojoj muzičkoj estetici.\n“25ica” – meni veoma lična\, i do sada nešto najbolje što sam uradio kada je u pitanju moje muzičko delo\, rad i trajanje na muzičkoj sceni.\n“25ica ” i svi njeni segmenti\, biće prezentovani publici krajem godine\, a pre toga 08. novembra publika u Švajcarskoj će moći premijerno\, pre izdanja\, uživo čuti u dvorani Volkshaus Cirih i osetiti magiju “25ica”-acoustic. \nDobrodošli 🥂
URL:https://www.helse.ch/event/zeljko-vasic-25/
LOCATION:Volkshaus Zürich\, Stauffacherstrasse 60\, Zürich\, 8004\, Switzerland
ATTACH;FMTTYPE=image/webp:https://www.helse.ch/wp-content/uploads/2025/09/zeljko-vasic-25.webp
ORGANIZER;CN="Helse Kulturverein":MAILTO:info@helse.ch
END:VEVENT
END:VCALENDAR