BEGIN:VCALENDAR
VERSION:2.0
PRODID:-//HELSE - ECPv6.15.20//NONSGML v1.0//EN
CALSCALE:GREGORIAN
METHOD:PUBLISH
X-WR-CALNAME:HELSE
X-ORIGINAL-URL:https://www.helse.ch
X-WR-CALDESC:Events for HELSE
REFRESH-INTERVAL;VALUE=DURATION:PT1H
X-Robots-Tag:noindex
X-PUBLISHED-TTL:PT1H
BEGIN:VTIMEZONE
TZID:Europe/Zurich
BEGIN:DAYLIGHT
TZOFFSETFROM:+0100
TZOFFSETTO:+0200
TZNAME:CEST
DTSTART:20240331T010000
END:DAYLIGHT
BEGIN:STANDARD
TZOFFSETFROM:+0200
TZOFFSETTO:+0100
TZNAME:CET
DTSTART:20241027T010000
END:STANDARD
BEGIN:DAYLIGHT
TZOFFSETFROM:+0100
TZOFFSETTO:+0200
TZNAME:CEST
DTSTART:20250330T010000
END:DAYLIGHT
BEGIN:STANDARD
TZOFFSETFROM:+0200
TZOFFSETTO:+0100
TZNAME:CET
DTSTART:20251026T010000
END:STANDARD
BEGIN:DAYLIGHT
TZOFFSETFROM:+0100
TZOFFSETTO:+0200
TZNAME:CEST
DTSTART:20260329T010000
END:DAYLIGHT
BEGIN:STANDARD
TZOFFSETFROM:+0200
TZOFFSETTO:+0100
TZNAME:CET
DTSTART:20261025T010000
END:STANDARD
END:VTIMEZONE
BEGIN:VEVENT
DTSTART;TZID=Europe/Zurich:20251003T203000
DTEND;TZID=Europe/Zurich:20251003T230000
DTSTAMP:20260424T221151
CREATED:20250729T162003Z
LAST-MODIFIED:20251001T122300Z
UID:13619-1759523400-1759532400@www.helse.ch
SUMMARY:Marko Louis
DESCRIPTION:SRB \n\nO KONCERTU \nMARKO LOUIS\nVeliki koncert Marka Louisa u Cirihu \nPETAK 03. OKTOBAR\nDynamo Saal\nWasserwerkstrasse 21\n8004 Zürich\n\n——————————- \nCENA KARTE: \n50chf \n——————————- \nPočetak koncerta u 20:30 h\, vrata se otvaraju u 19:30 h. \nBroj mesta je ograničen – obezbedite svoju ulaznicu na vreme! \n\n  \n    \n      KUPI KARTU\n    \n  \n\n\nKONCERT KOJI SE NE PROPUŠTA! \n\nJesenju koncertnu sezonu otvaramo nastupom jednog od najautentičnijih glasova savremene muzičke scene Balkana\, koji će sigurno kreirati magično muzičko veče za pamćenje. \nMarko Louis\, stiže u Cirih sa svojim bendom! \nNjegova muzika je jedinstveni spoj soula\, etno ritmova i moderne produkcije – muziku koja spaja generacije. \nNakon uspešnih nastupa širom regiona i objave albuma “25”\, kojim slavi četvrt veka stvaralaštva\, Marko Louis će i u Cirihu svojim koncertom podići publiku na noge i pzitivnom energijom ulepšati oktobarsko veče u Cirihu. \nVidimo se!
URL:https://www.helse.ch/event/marko-louis/
LOCATION:Jugendkulturhaus Dynamo\, Wasserwerkstrasse 21\, Zurich\, 8008
ATTACH;FMTTYPE=image/webp:https://www.helse.ch/wp-content/uploads/2025/07/marko-louis-1.webp
ORGANIZER;CN="Helse Kulturverein":MAILTO:info@helse.ch
END:VEVENT
END:VCALENDAR