BEGIN:VCALENDAR
VERSION:2.0
PRODID:-//HELSE - ECPv6.15.20//NONSGML v1.0//EN
CALSCALE:GREGORIAN
METHOD:PUBLISH
X-WR-CALNAME:HELSE
X-ORIGINAL-URL:https://www.helse.ch
X-WR-CALDESC:Events for HELSE
REFRESH-INTERVAL;VALUE=DURATION:PT1H
X-Robots-Tag:noindex
X-PUBLISHED-TTL:PT1H
BEGIN:VTIMEZONE
TZID:Europe/Zurich
BEGIN:DAYLIGHT
TZOFFSETFROM:+0100
TZOFFSETTO:+0200
TZNAME:CEST
DTSTART:20240331T010000
END:DAYLIGHT
BEGIN:STANDARD
TZOFFSETFROM:+0200
TZOFFSETTO:+0100
TZNAME:CET
DTSTART:20241027T010000
END:STANDARD
BEGIN:DAYLIGHT
TZOFFSETFROM:+0100
TZOFFSETTO:+0200
TZNAME:CEST
DTSTART:20250330T010000
END:DAYLIGHT
BEGIN:STANDARD
TZOFFSETFROM:+0200
TZOFFSETTO:+0100
TZNAME:CET
DTSTART:20251026T010000
END:STANDARD
BEGIN:DAYLIGHT
TZOFFSETFROM:+0100
TZOFFSETTO:+0200
TZNAME:CEST
DTSTART:20260329T010000
END:DAYLIGHT
BEGIN:STANDARD
TZOFFSETFROM:+0200
TZOFFSETTO:+0100
TZNAME:CET
DTSTART:20261025T010000
END:STANDARD
END:VTIMEZONE
BEGIN:VEVENT
DTSTART;VALUE=DATE:20250320
DTEND;VALUE=DATE:20250501
DTSTAMP:20260425T061255
CREATED:20250211T204927Z
LAST-MODIFIED:20250409T133619Z
UID:13461-1742428800-1746057599@www.helse.ch
SUMMARY:Majka Mara
DESCRIPTION:SRB \n\nO FILMU \nMother MARA – Majka MARA\nNovi film Mirjane Karanović koja je ovog puta u ulozi reditelja i glavne uloge. \nKUPI KARTU / TICKET KAUFEN\n \n\n\n\n\nGRAD/STADT\nDATUM\nKARTE/TICKETS\n\n\n\n\nZurich-RiffRaff(CH)\n\n09.04-16.04 \n\n\n  \n    \n      KARTE/TICKETS\n    \n  \n\n\n\n\n\nBasel(CH)\n\n13.04 \n\n\n  \n    \n      KARTE/TICKETS\n    \n  \n\n\n\n\nSt.Gallen-Kinok(CH)\n\n14.04-14.20h \n\n\n  \n    \n      KARTE/TICKETS\n    \n  \n\n\n\n\nWinterthur-Cameo(CH)\n\n11.04-12.15h \n\n\n  \n    \n      KARTE/TICKETS\n    \n  \n\n\n\n\nSchaan-Skino(CH)\n\n15.04 \n\n\n  \n    \n      KARTE/TICKETS\n    \n  \n\n\n\n\nBern-Rex(CH)\n\n11.04 \n\n\n  \n    \n      KARTE/TICKETS\n    \n  \n\n\n\n\n\n\n\n\nMOTHER MARA – GRANICA IZMEĐU BOLA I ZABRANJENE LJUBAVI \n(SRB) Mara\, uspešna poslovna žena i samohrana majka\, iznenada gubi sina Nemanju koji prerano umire. Ona se zatvara i odbija da pokaže emocije\, postajući nedostupna za bilo kakav razgovor o toj temi sa prijateljima i porodicom. Noseći u sebi duboko sahranjenu traumu\, ona upoznaje Milana\, Nemanjinog druga. Milan je neko koga ona planira da iskoristi da sazna više o životu svoga sina. Emocije koje dele prema Nemanji i njegovoj iznenadnoj smrti ih zbližava i oni započinju intimnu vezu. \n(DE) Mara\, eine erfolgreiche Anwältin und alleinerziehende Mutter aus Belgrad\, wird durch den überraschenden Tod ihres 20 jährigen Sohnes aus dem Leben gerissen. Sie stürzt sich in die Arbeit und lässt den Emotionen keinen Raum. Erst in der Begegnung mit dem Fitnesstrainer Milan\, einem engen Freund ihres Sohnes\, gelingt es ihr\, sich langsam zu öffnen. Über ihre Liebschaft mit Milan lernt Mara ihren Sohn neu kennen\, was ihr hilft\, endlich trauern zu können und einen Weg zurück ins Leben zu finden. \nUloge: \n● Mirjana Karanović kao MARA\n● Vučić Perović kao MILAN \nRežija: \nMirjana Karanović
URL:https://www.helse.ch/event/majka-mara/
LOCATION:Bioskopi širom Švajcarske\, Switzerland
ATTACH;FMTTYPE=image/webp:https://www.helse.ch/wp-content/uploads/2025/02/majka-mara-2.webp
ORGANIZER;CN="Helse Kulturverein":MAILTO:info@helse.ch
END:VEVENT
END:VCALENDAR