BEGIN:VCALENDAR
VERSION:2.0
PRODID:-//HELSE - ECPv6.15.20//NONSGML v1.0//EN
CALSCALE:GREGORIAN
METHOD:PUBLISH
X-WR-CALNAME:HELSE
X-ORIGINAL-URL:https://www.helse.ch
X-WR-CALDESC:Events for HELSE
REFRESH-INTERVAL;VALUE=DURATION:PT1H
X-Robots-Tag:noindex
X-PUBLISHED-TTL:PT1H
BEGIN:VTIMEZONE
TZID:Europe/Zurich
BEGIN:DAYLIGHT
TZOFFSETFROM:+0100
TZOFFSETTO:+0200
TZNAME:CEST
DTSTART:20230326T010000
END:DAYLIGHT
BEGIN:STANDARD
TZOFFSETFROM:+0200
TZOFFSETTO:+0100
TZNAME:CET
DTSTART:20231029T010000
END:STANDARD
BEGIN:DAYLIGHT
TZOFFSETFROM:+0100
TZOFFSETTO:+0200
TZNAME:CEST
DTSTART:20240331T010000
END:DAYLIGHT
BEGIN:STANDARD
TZOFFSETFROM:+0200
TZOFFSETTO:+0100
TZNAME:CET
DTSTART:20241027T010000
END:STANDARD
BEGIN:DAYLIGHT
TZOFFSETFROM:+0100
TZOFFSETTO:+0200
TZNAME:CEST
DTSTART:20250330T010000
END:DAYLIGHT
BEGIN:STANDARD
TZOFFSETFROM:+0200
TZOFFSETTO:+0100
TZNAME:CET
DTSTART:20251026T010000
END:STANDARD
END:VTIMEZONE
BEGIN:VEVENT
DTSTART;VALUE=DATE:20240927
DTEND;VALUE=DATE:20240930
DTSTAMP:20260425T182850
CREATED:20240411T080541Z
LAST-MODIFIED:20240925T144829Z
UID:12758-1727395200-1727654399@www.helse.ch
SUMMARY:Šta me opet snađe
DESCRIPTION:SRB \n\nO PREDSTAVI \nANĐELKA – ŠTA ME OPET SNAĐE\n„Šta me OPET snađe“ je NOVA komedija – monodrama glumice Anđelke Stević Žugić o večno aktuelnoj temi razvoda.\n27/28/29 SEPTEMBAR 2024\n\nKirchgemeindehaus Neumünster Zürich\,\nSeefeldstrasse 91\,\n8008 ZURICH\n——————————- \nCENA KARTE: \n(studenti i penzioneri – 35chf) \nBALKON – 45chf \nPARTER – 50chf \nKARTE – 27. septembar u 20hKARTE – 28. septembar u 20hKARTE – 29. septembar u 19h\nGlavna junakinja Jovanka Joka Jakovljević \, u svojim kasnim 30im\, kreće u nezaustavljivu vožnju kroz svoj emocionalni haos u koji je upala nakon razvoda. Brak joj se završio kao loš film\, iako je očekivala romantičnu komediju\, a život odjednom pretvorio u ring.\nKonkurencija je oštra\, okolina surova\, ali i Joka neustrašiva u svakoj svojoj suludoj odluci i tragikomičnoj situaciji.\nI dok u tom savršenom nesnalaženju pokušava da stvori “novi život” i “novu sebe”\, uz nju je elitni odred podrške\, uvek spreman da joj dodatno zakomplikuje život svojim savetima: najbolje prijateljice Cica i Mica\, baba i mama\, kao i neizbežne astrološkinja i psihološkinja. Standardna formacija odbrane svake žene za njene kuršluse u glavi. \nSve likove igra Anđelka\, u svom furioznom i već prepoznatljivom stilu vrsne komičarke\, donoseći dozu divlje autentičnosti i hrabrosti\, koja istovremeno izaziva smeh\, ali i zaista pokreće pitanja o prirodi života nakon razvoda.\nOva predstava nije za one sa slabim srcem\, jakim predrasudama i nepogrešivim stavovima. \nOvo je za hrabre duše\, spremne da se nasmeju u lice izazovima i kažu: “Šta me OPET snađe? Pa\, sve najbolje\, naravno!” \nIGRA: ANĐELKA STEVIĆ ŽUGIĆ\nAUTOR TEKSTA: Nebojša Romčević\nREŽIJA: Petar Jovanović\nMUZIKA: Aleksandar Saša Lokner
URL:https://www.helse.ch/event/sta-me-opet-snade/
LOCATION:Kirchgemeindehaus  Neumünster\, Seefeldstrasse 91\, Zürich\, Zürich\, 8008\, Switzerland
ATTACH;FMTTYPE=image/webp:https://www.helse.ch/wp-content/uploads/2024/04/andja.webp
ORGANIZER;CN="Helse Kulturverein":MAILTO:info@helse.ch
END:VEVENT
END:VCALENDAR