BEGIN:VCALENDAR
VERSION:2.0
PRODID:-//HELSE - ECPv6.15.20//NONSGML v1.0//EN
CALSCALE:GREGORIAN
METHOD:PUBLISH
X-ORIGINAL-URL:https://www.helse.ch
X-WR-CALDESC:Events for HELSE
REFRESH-INTERVAL;VALUE=DURATION:PT1H
X-Robots-Tag:noindex
X-PUBLISHED-TTL:PT1H
BEGIN:VTIMEZONE
TZID:Europe/Zurich
BEGIN:DAYLIGHT
TZOFFSETFROM:+0100
TZOFFSETTO:+0200
TZNAME:CEST
DTSTART:20230326T010000
END:DAYLIGHT
BEGIN:STANDARD
TZOFFSETFROM:+0200
TZOFFSETTO:+0100
TZNAME:CET
DTSTART:20231029T010000
END:STANDARD
BEGIN:DAYLIGHT
TZOFFSETFROM:+0100
TZOFFSETTO:+0200
TZNAME:CEST
DTSTART:20240331T010000
END:DAYLIGHT
BEGIN:STANDARD
TZOFFSETFROM:+0200
TZOFFSETTO:+0100
TZNAME:CET
DTSTART:20241027T010000
END:STANDARD
BEGIN:DAYLIGHT
TZOFFSETFROM:+0100
TZOFFSETTO:+0200
TZNAME:CEST
DTSTART:20250330T010000
END:DAYLIGHT
BEGIN:STANDARD
TZOFFSETFROM:+0200
TZOFFSETTO:+0100
TZNAME:CET
DTSTART:20251026T010000
END:STANDARD
END:VTIMEZONE
BEGIN:VEVENT
DTSTART;TZID=Europe/Zurich:20240706T203000
DTEND;TZID=Europe/Zurich:20240706T233000
DTSTAMP:20260425T210918
CREATED:20240503T085958Z
LAST-MODIFIED:20240527T114506Z
UID:12795-1720297800-1720308600@www.helse.ch
SUMMARY:Bajaga 2024
DESCRIPTION:SRB \n\nO KONCERTU \nBajaga i Instruktori na Bleiche Session festivalu!\nSUBOTA\, 06.JUL – 20.30h\nPiazza Bleiche Wald\,\n8636 Wald (ZH) \nVrata se otvaraju u 18.00h\nPocetak koncerta u 20.30h \nPosle fantastičnog prošlogodišnjeg koncerta Bajaga i Instruktori se vraćaju na Bleiche Session festival kako bi ponovo magijom svoje muzike stvorili veče za pamćenje u jedinstvenom ambijentu Wald-a. \nSupporting Act je mladi i talentovani pevač Dušan Svilar vrsni pevač kojem nijedan muzički pravac nije stran i koji se jednako dobro snalazi na koncertnoj i pozorišnoj sceni. Njegov nastup će biti savršen uvod u koncert benda “Bajaga i intruktori” čije pesme su nezaobilazni deo naših života već 40 godina. \nUlaznice i posebne ponude: \n\nDeca do 16 godina ne plaćaju ulaz.\nMolimo da se za besplatne ulaznice javite direktno na večernjoj kasi.\nIskoristite našu ponudu kombi-ulaznica koje uključuju večeru sa 3 jela u atmosferičnom restoranu Bleichibeiz. Rezervišite svoje mesto dolaskom između 18:00 i 18:30\, kako biste u miru uživali u večeri pre koncerta.\nLokacija je pristupačna za osobe u invalidskim kolicima. Za kupovinu ulaznica molimo vas da se obratite na: ticketing@seetickets.ch\nZa više informacija posetite: www.bleiche.ch/sessions\nNabavite ulaznice na vreme i pridružite nam se u još jednom nezaboravnom muzičkom događaju uz Bajagu i Instruktore na magičnom muzičkom putovanju sa pesmama koje su obeležile naše živote.\n\nCena karte sa vecerom: CHF 141.90\nCena karte bez vecere: CHF 91.90 \n\n  \nKUPI KARTU
URL:https://www.helse.ch/event/bajaga-2024/
LOCATION:BLEICHE WALD\, Piazza Bleiche Wald\, Wald\, 8636\, Switzerland
ATTACH;FMTTYPE=image/webp:https://www.helse.ch/wp-content/uploads/2024/05/bajaga-2024.webp
END:VEVENT
END:VCALENDAR