BEGIN:VCALENDAR
VERSION:2.0
PRODID:-//HELSE - ECPv6.15.20//NONSGML v1.0//EN
CALSCALE:GREGORIAN
METHOD:PUBLISH
X-ORIGINAL-URL:https://www.helse.ch
X-WR-CALDESC:Events for HELSE
REFRESH-INTERVAL;VALUE=DURATION:PT1H
X-Robots-Tag:noindex
X-PUBLISHED-TTL:PT1H
BEGIN:VTIMEZONE
TZID:Europe/Zurich
BEGIN:DAYLIGHT
TZOFFSETFROM:+0100
TZOFFSETTO:+0200
TZNAME:CEST
DTSTART:20230326T010000
END:DAYLIGHT
BEGIN:STANDARD
TZOFFSETFROM:+0200
TZOFFSETTO:+0100
TZNAME:CET
DTSTART:20231029T010000
END:STANDARD
BEGIN:DAYLIGHT
TZOFFSETFROM:+0100
TZOFFSETTO:+0200
TZNAME:CEST
DTSTART:20240331T010000
END:DAYLIGHT
BEGIN:STANDARD
TZOFFSETFROM:+0200
TZOFFSETTO:+0100
TZNAME:CET
DTSTART:20241027T010000
END:STANDARD
BEGIN:DAYLIGHT
TZOFFSETFROM:+0100
TZOFFSETTO:+0200
TZNAME:CEST
DTSTART:20250330T010000
END:DAYLIGHT
BEGIN:STANDARD
TZOFFSETFROM:+0200
TZOFFSETTO:+0100
TZNAME:CET
DTSTART:20251026T010000
END:STANDARD
END:VTIMEZONE
BEGIN:VEVENT
DTSTART;TZID=Europe/Zurich:20240224T200000
DTEND;TZID=Europe/Zurich:20240224T220000
DTSTAMP:20260426T045524
CREATED:20240207T090513Z
LAST-MODIFIED:20240212T080711Z
UID:12650-1708804800-1708812000@www.helse.ch
SUMMARY:Jagoda & Pau
DESCRIPTION:SRB \n\nO STANDUP SHOW-U JAGODA & PAU \nIZ ŠPAJZA NA SCENU \n24. FEBRUAR 2024. u 20h\n  \nCOMEDY HAUS\,\nAlbisriederstrasse 16\,\n8003 ZURICH \nPartner te ne sluša? Deca te umaraju? Seksualni život ti izumire kao demokratija u Srbiji? Ako je odgovor na neko od ovih pitanja DA\, “Iz Špajza na Scenu” je predstava za tebe! Iz Špajza na Scenu je najbolja stand up predstava Srpkinje i Španca na ovim prostorima. Takođe i jedina. Jagoda je bivša diplomatkinja koja je 1. dala otkaz u državnoj firmi i 2. bavi se stand up-om\, a sada piše knjigu Kako da upropastite svoj život u 2 jednostavna koraka. Njen muž Pau je Španac koji živi u špajzu i govori srpski. Ili bar on tako misli. Garantujemo da tvoje probleme NEĆEMO rešiti\, ali ćemo im se zajedno smejati! Biće super! IZVOĐAČI: Jagoda i Pau  \nCena karte: 35 chf \n\n \n  \n\nKUPI KARTU\n\n 
URL:https://www.helse.ch/event/jagoda-pau/
LOCATION:ComedyHaus\, Albisriederstrasse 16\, Zurich\, Zurich\, 8003\, Switzerland
ATTACH;FMTTYPE=image/webp:https://www.helse.ch/wp-content/uploads/2024/02/Spajz.webp
ORGANIZER;CN="Helse Kulturverein":MAILTO:info@helse.ch
END:VEVENT
END:VCALENDAR